BEGIN:VCALENDAR
VERSION:2.0
PRODID:-//Greater Meredith Program - ECPv6.15.20//NONSGML v1.0//EN
CALSCALE:GREGORIAN
METHOD:PUBLISH
X-WR-CALNAME:Greater Meredith Program
X-ORIGINAL-URL:https://greatermeredith.org
X-WR-CALDESC:Events for Greater Meredith Program
REFRESH-INTERVAL;VALUE=DURATION:PT1H
X-Robots-Tag:noindex
X-PUBLISHED-TTL:PT1H
BEGIN:VTIMEZONE
TZID:America/New_York
BEGIN:DAYLIGHT
TZOFFSETFROM:-0500
TZOFFSETTO:-0400
TZNAME:EDT
DTSTART:20230312T070000
END:DAYLIGHT
BEGIN:STANDARD
TZOFFSETFROM:-0400
TZOFFSETTO:-0500
TZNAME:EST
DTSTART:20231105T060000
END:STANDARD
BEGIN:DAYLIGHT
TZOFFSETFROM:-0500
TZOFFSETTO:-0400
TZNAME:EDT
DTSTART:20240310T070000
END:DAYLIGHT
BEGIN:STANDARD
TZOFFSETFROM:-0400
TZOFFSETTO:-0500
TZNAME:EST
DTSTART:20241103T060000
END:STANDARD
BEGIN:DAYLIGHT
TZOFFSETFROM:-0500
TZOFFSETTO:-0400
TZNAME:EDT
DTSTART:20250309T070000
END:DAYLIGHT
BEGIN:STANDARD
TZOFFSETFROM:-0400
TZOFFSETTO:-0500
TZNAME:EST
DTSTART:20251102T060000
END:STANDARD
END:VTIMEZONE
BEGIN:VEVENT
DTSTART;TZID=America/New_York:20241210T163000
DTEND;TZID=America/New_York:20241210T173000
DTSTAMP:20260424T222752
CREATED:20231117T170151Z
LAST-MODIFIED:20240620T171559Z
UID:244977-1733848200-1733851800@greatermeredith.org
SUMMARY:Design & Beautification Committee Meeting
DESCRIPTION:The Design Committee has the goals of beautifying the Town of Meredith as well as improving the Town’s sense of place. The Design and Beautification Committee meets the second Tuesday of each month at 4:30pm at rotating members’ homes\, except in winter months when they meet at 185 Waukewan Road in Meredith (GMP offices). If you would like to attend\, please reach out to our Executive Director Mike Griffin for location details.
URL:https://greatermeredith.org/event/design-12-24/
CATEGORIES:Committee Meeting
END:VEVENT
BEGIN:VEVENT
DTSTART;TZID=America/New_York:20241120T170000
DTEND;TZID=America/New_York:20241120T180000
DTSTAMP:20260424T222752
CREATED:20231117T174157Z
LAST-MODIFIED:20240925T221855Z
UID:244997-1732122000-1732125600@greatermeredith.org
SUMMARY:Promotions Committee Meeting
DESCRIPTION:The Promotion Committee serves as the marketing arm of the GMP\, the ‘Shop Local’ cheerleader of our local businesses and event coordinators for the community. The Promotions Committee is meeting at the GMP office at 183 Waukewan St.. If you would like to attend\, please reach out to our Executive Director Heather LaDue\, gmp@ greatermeredith .org to be notified of any last-minute changes to this meeting.
URL:https://greatermeredith.org/event/promo-11-24/
CATEGORIES:Committee Meeting
END:VEVENT
BEGIN:VEVENT
DTSTART;TZID=America/New_York:20241113T080000
DTEND;TZID=America/New_York:20241113T090000
DTSTAMP:20260424T222752
CREATED:20231117T163213Z
LAST-MODIFIED:20231117T163852Z
UID:244950-1731484800-1731488400@greatermeredith.org
SUMMARY:Community & Economic Development Committee Meeting
DESCRIPTION:Identifying new market opportunities for economic development\, revitalizing historic commercial buildings\, and stimulating investment within  properties in Meredith\, NH. Building economic growth within the community. The committee members of the Community & Economic Development Committee will meet at the GMP office at 183 Waukewan Street. Non-members who are interested in attending: please first contact Natalie at info@meredithoptical.com.
URL:https://greatermeredith.org/event/econ-11-24/
CATEGORIES:Committee Meeting
END:VEVENT
BEGIN:VEVENT
DTSTART;TZID=America/New_York:20241112T163000
DTEND;TZID=America/New_York:20241112T173000
DTSTAMP:20260424T222752
CREATED:20231117T170042Z
LAST-MODIFIED:20240620T171525Z
UID:244975-1731429000-1731432600@greatermeredith.org
SUMMARY:Design & Beautification Committee Meeting
DESCRIPTION:The Design Committee has the goals of beautifying the Town of Meredith as well as improving the Town’s sense of place. The Design and Beautification Committee meets the second Tuesday of each month at 4:30pm at rotating members’ homes\, except in winter months when they meet at 185 Waukewan Road in Meredith (GMP offices). If you would like to attend\, please reach out to our Executive Director Mike Griffin for location details.
URL:https://greatermeredith.org/event/design-11-24/
CATEGORIES:Committee Meeting
END:VEVENT
BEGIN:VEVENT
DTSTART;TZID=America/New_York:20241016T170000
DTEND;TZID=America/New_York:20241016T180000
DTSTAMP:20260424T222752
CREATED:20231117T174037Z
LAST-MODIFIED:20240925T221932Z
UID:244995-1729098000-1729101600@greatermeredith.org
SUMMARY:Promotions Committee Meeting
DESCRIPTION:The Promotion Committee serves as the marketing arm of the GMP\, the ‘Shop Local’ cheerleader of our local businesses and event coordinators for the community. The Promotions Committee is meeting at the GMP office at 183 Waukewan St.. If you would like to attend\, please reach out to our Executive Director Heather LaDue\, gmp@ greatermeredith .org to be notified of any last-minute changes to this meeting.
URL:https://greatermeredith.org/event/promo-10-24/
CATEGORIES:Committee Meeting
END:VEVENT
BEGIN:VEVENT
DTSTART;TZID=America/New_York:20241010T080000
DTEND;TZID=America/New_York:20241010T090000
DTSTAMP:20260424T222752
CREATED:20231117T180450Z
LAST-MODIFIED:20231117T180501Z
UID:245021-1728547200-1728550800@greatermeredith.org
SUMMARY:Executive Committee Meeting
DESCRIPTION:Our Executive Committee meets every other month at Hermit Woods Winery upstairs. This is an invitation-only meeting.
URL:https://greatermeredith.org/event/exec-10-24/
CATEGORIES:Committee Meeting
END:VEVENT
BEGIN:VEVENT
DTSTART;TZID=America/New_York:20241009T080000
DTEND;TZID=America/New_York:20241009T090000
DTSTAMP:20260424T222752
CREATED:20231117T163043Z
LAST-MODIFIED:20231117T163605Z
UID:244948-1728460800-1728464400@greatermeredith.org
SUMMARY:Community & Economic Development Committee Meeting
DESCRIPTION:Identifying new market opportunities for economic development\, revitalizing historic commercial buildings\, and stimulating investment within  properties in Meredith\, NH. Building economic growth within the community. The committee members of the Community & Economic Development Committee will meet at the GMP office at 183 Waukewan Street. Non-members who are interested in attending: please first contact Natalie at info@meredithoptical.com.
URL:https://greatermeredith.org/event/econ-10-24/
CATEGORIES:Committee Meeting
END:VEVENT
BEGIN:VEVENT
DTSTART;TZID=America/New_York:20241008T163000
DTEND;TZID=America/New_York:20241008T173000
DTSTAMP:20260424T222752
CREATED:20231117T165836Z
LAST-MODIFIED:20240620T171447Z
UID:244973-1728405000-1728408600@greatermeredith.org
SUMMARY:Design & Beautification Committee Meeting
DESCRIPTION:The Design Committee has the goals of beautifying the Town of Meredith as well as improving the Town’s sense of place. The Design and Beautification Committee meets the second Tuesday of each month at 4:30pm at rotating members’ homes\, except in winter months when they meet at 185 Waukewan Road in Meredith (GMP offices). If you would like to attend\, please reach out to our Executive Director Mike Griffin for location details.
URL:https://greatermeredith.org/event/design-10-24/
CATEGORIES:Committee Meeting
END:VEVENT
BEGIN:VEVENT
DTSTART;TZID=America/New_York:20240918T170000
DTEND;TZID=America/New_York:20240918T180000
DTSTAMP:20260424T222752
CREATED:20231117T173933Z
LAST-MODIFIED:20231117T174853Z
UID:244993-1726678800-1726682400@greatermeredith.org
SUMMARY:Promotions Committee Meeting
DESCRIPTION:The Promotion Committee serves as the marketing arm of the GMP\, the ‘Shop Local’ cheerleader of our local businesses and event coordinators for the community. The Promotions Committee is meeting at Hermit Woods Upstairs [except some summer months]. If you would like to attend\, please reach out to our Executive Director Mike Griffin\, gmp@ greatermeredith .org to be notified of any last-minute changes to this meeting.
URL:https://greatermeredith.org/event/promo-9-24/
CATEGORIES:Committee Meeting
END:VEVENT
BEGIN:VEVENT
DTSTART;TZID=America/New_York:20240911T080000
DTEND;TZID=America/New_York:20240911T090000
DTSTAMP:20260424T222752
CREATED:20231117T162940Z
LAST-MODIFIED:20240925T221632Z
UID:244946-1726041600-1726045200@greatermeredith.org
SUMMARY:Community & Economic Development Committee Meeting
DESCRIPTION:Identifying new market opportunities for economic development\, revitalizing historic commercial buildings\, and stimulating investment within  properties in Meredith\, NH. Building economic growth within the community. The committee members of the Community & Economic Development Committee will meet at the GMP office at 183 Waukewan Street. Non-members who are interested in attending: please first contact Natalie at info@meredithoptical.com.
URL:https://greatermeredith.org/event/econ-9-24/
CATEGORIES:Committee Meeting
END:VEVENT
BEGIN:VEVENT
DTSTART;TZID=America/New_York:20240910T163000
DTEND;TZID=America/New_York:20240910T173000
DTSTAMP:20260424T222752
CREATED:20231117T165601Z
LAST-MODIFIED:20240619T143737Z
UID:244971-1725985800-1725989400@greatermeredith.org
SUMMARY:Design & Beautification Committee Meeting
DESCRIPTION:The Design Committee has the goals of beautifying the Town of Meredith as well as improving the Town’s sense of place. The Design and Beautification Committee meets the second Tuesday of each month at 4:30pm. The location rotates between member’s homes. If you would like to attend\, please reach out to our Executive Director Mike Griffin for location details.
URL:https://greatermeredith.org/event/design-9-24/
CATEGORIES:Committee Meeting
END:VEVENT
BEGIN:VEVENT
DTSTART;TZID=America/New_York:20240821T170000
DTEND;TZID=America/New_York:20240821T180000
DTSTAMP:20260424T222752
CREATED:20231117T173830Z
LAST-MODIFIED:20231117T174842Z
UID:244991-1724259600-1724263200@greatermeredith.org
SUMMARY:Promotions Committee Meeting
DESCRIPTION:The Promotion Committee serves as the marketing arm of the GMP\, the ‘Shop Local’ cheerleader of our local businesses and event coordinators for the community. The Promotions Committee is meeting at Hermit Woods Upstairs [except some summer months]. If you would like to attend\, please reach out to our Executive Director Mike Griffin\, gmp@ greatermeredith .org to be notified of any last-minute changes to this meeting.
URL:https://greatermeredith.org/event/promo-8-24/
CATEGORIES:Committee Meeting
END:VEVENT
BEGIN:VEVENT
DTSTART;TZID=America/New_York:20240814T080000
DTEND;TZID=America/New_York:20240814T090000
DTSTAMP:20260424T222752
CREATED:20231117T162837Z
LAST-MODIFIED:20231117T163501Z
UID:244944-1723622400-1723626000@greatermeredith.org
SUMMARY:Community & Economic Development Committee Meeting
DESCRIPTION:Identifying new market opportunities for economic development\, revitalizing historic commercial buildings\, and stimulating investment within  properties in Meredith\, NH. Building economic growth within the community. The committee members of the Community & Economic Development Committee will meet at the GMP office at 183 Waukewan Street. Non-members who are interested in attending: please first contact Natalie at info@meredithoptical.com.
URL:https://greatermeredith.org/event/econ-8-24/
CATEGORIES:Committee Meeting
END:VEVENT
BEGIN:VEVENT
DTSTART;TZID=America/New_York:20240813T163000
DTEND;TZID=America/New_York:20240813T173000
DTSTAMP:20260424T222752
CREATED:20231117T165500Z
LAST-MODIFIED:20240619T143027Z
UID:244969-1723566600-1723570200@greatermeredith.org
SUMMARY:Design & Beautification Committee Meeting
DESCRIPTION:The Design Committee has the goals of beautifying the Town of Meredith as well as improving the Town’s sense of place. The Design and Beautification Committee meets the second Tuesday of each month at 4:30pm at 185 Waukewan Road in Meredith (GMP offices). If you would like to attend\, please reach out to our Executive Director Mike Griffin for location details.
URL:https://greatermeredith.org/event/design-8-24/
CATEGORIES:Committee Meeting
END:VEVENT
BEGIN:VEVENT
DTSTART;TZID=America/New_York:20240808T080000
DTEND;TZID=America/New_York:20240808T090000
DTSTAMP:20260424T222752
CREATED:20231117T180137Z
LAST-MODIFIED:20231117T180143Z
UID:245017-1723104000-1723107600@greatermeredith.org
SUMMARY:Executive Committee Meeting
DESCRIPTION:Our Executive Committee meets every other month at Hermit Woods Winery upstairs. This is an invitation-only meeting.
URL:https://greatermeredith.org/event/exec-8-24/
CATEGORIES:Committee Meeting
END:VEVENT
BEGIN:VEVENT
DTSTART;TZID=America/New_York:20240717T170000
DTEND;TZID=America/New_York:20240717T180000
DTSTAMP:20260424T222752
CREATED:20231117T173721Z
LAST-MODIFIED:20231117T174827Z
UID:244989-1721235600-1721239200@greatermeredith.org
SUMMARY:Promotions Committee Meeting
DESCRIPTION:The Promotion Committee serves as the marketing arm of the GMP\, the ‘Shop Local’ cheerleader of our local businesses and event coordinators for the community. The Promotions Committee is meeting at Hermit Woods Upstairs [except some summer months]. If you would like to attend\, please reach out to our Executive Director Mike Griffin\, gmp@ greatermeredith .org to be notified of any last-minute changes to this meeting.
URL:https://greatermeredith.org/event/promo-7-24/
CATEGORIES:Committee Meeting
END:VEVENT
BEGIN:VEVENT
DTSTART;TZID=America/New_York:20240710T080000
DTEND;TZID=America/New_York:20240710T090000
DTSTAMP:20260424T222752
CREATED:20231117T162725Z
LAST-MODIFIED:20231117T163448Z
UID:244942-1720598400-1720602000@greatermeredith.org
SUMMARY:Community & Economic Development Committee Meeting
DESCRIPTION:Identifying new market opportunities for economic development\, revitalizing historic commercial buildings\, and stimulating investment within  properties in Meredith\, NH. Building economic growth within the community. The committee members of the Community & Economic Development Committee will meet at the GMP office at 183 Waukewan Street. Non-members who are interested in attending: please first contact Natalie at info@meredithoptical.com.
URL:https://greatermeredith.org/event/econ-7-24/
CATEGORIES:Committee Meeting
END:VEVENT
BEGIN:VEVENT
DTSTART;TZID=America/New_York:20240709T163000
DTEND;TZID=America/New_York:20240709T173000
DTSTAMP:20260424T222752
CREATED:20231117T165229Z
LAST-MODIFIED:20240619T142936Z
UID:244967-1720542600-1720546200@greatermeredith.org
SUMMARY:Design & Beautification Committee Meeting
DESCRIPTION:The Design Committee has the goals of beautifying the Town of Meredith as well as improving the Town’s sense of place. The Design and Beautification Committee meets the second Tuesday of each month at 4:30pm at 185 Waukewan Road in Meredith (GMP offices). If you would like to attend\, please reach out to our Executive Director Mike Griffin for location details.
URL:https://greatermeredith.org/event/design-7-24/
CATEGORIES:Committee Meeting
END:VEVENT
BEGIN:VEVENT
DTSTART;TZID=America/New_York:20240619T170000
DTEND;TZID=America/New_York:20240619T180000
DTSTAMP:20260424T222752
CREATED:20231117T173611Z
LAST-MODIFIED:20231117T174816Z
UID:244987-1718816400-1718820000@greatermeredith.org
SUMMARY:Promotions Committee Meeting
DESCRIPTION:The Promotion Committee serves as the marketing arm of the GMP\, the ‘Shop Local’ cheerleader of our local businesses and event coordinators for the community. The Promotions Committee is meeting at Hermit Woods Upstairs [except some summer months]. If you would like to attend\, please reach out to our Executive Director Mike Griffin\, gmp@ greatermeredith .org to be notified of any last-minute changes to this meeting.
URL:https://greatermeredith.org/event/promo-6-24/
CATEGORIES:Committee Meeting
END:VEVENT
BEGIN:VEVENT
DTSTART;TZID=America/New_York:20240613T080000
DTEND;TZID=America/New_York:20240613T090000
DTSTAMP:20260424T222752
CREATED:20231117T175857Z
LAST-MODIFIED:20231117T175910Z
UID:245013-1718265600-1718269200@greatermeredith.org
SUMMARY:Executive Committee Meeting
DESCRIPTION:Our Executive Committee meets every other month at Hermit Woods Winery upstairs. This is an invitation-only meeting.
URL:https://greatermeredith.org/event/exec-6-24/
CATEGORIES:Committee Meeting
END:VEVENT
BEGIN:VEVENT
DTSTART;TZID=America/New_York:20240612T163000
DTEND;TZID=America/New_York:20240612T173000
DTSTAMP:20260424T222752
CREATED:20231117T165019Z
LAST-MODIFIED:20240104T201236Z
UID:244965-1718209800-1718213400@greatermeredith.org
SUMMARY:Design & Beautification Committee Meeting
DESCRIPTION:The Design Committee has the goals of beautifying the Town of Meredith as well as improving the Town’s sense of place. The Design and Beautification Committee meets the first Wednesday of each month at 4:45pm at 185 Waukewan Road in Meredith (GMP offices). If you would like to attend\, please reach out to our Executive Director Mike Griffin for location details.
URL:https://greatermeredith.org/event/design-6-24/
CATEGORIES:Committee Meeting
END:VEVENT
BEGIN:VEVENT
DTSTART;TZID=America/New_York:20240612T080000
DTEND;TZID=America/New_York:20240612T090000
DTSTAMP:20260424T222752
CREATED:20231117T162354Z
LAST-MODIFIED:20231117T163436Z
UID:244940-1718179200-1718182800@greatermeredith.org
SUMMARY:Community & Economic Development Committee Meeting
DESCRIPTION:Identifying new market opportunities for economic development\, revitalizing historic commercial buildings\, and stimulating investment within  properties in Meredith\, NH. Building economic growth within the community. The committee members of the Community & Economic Development Committee will meet at the GMP office at 183 Waukewan Street. Non-members who are interested in attending: please first contact Natalie at info@meredithoptical.com.
URL:https://greatermeredith.org/event/econ-6-24/
CATEGORIES:Committee Meeting
END:VEVENT
BEGIN:VEVENT
DTSTART;TZID=America/New_York:20240515T170000
DTEND;TZID=America/New_York:20240515T180000
DTSTAMP:20260424T222752
CREATED:20231117T173500Z
LAST-MODIFIED:20231117T174540Z
UID:244985-1715792400-1715796000@greatermeredith.org
SUMMARY:Promotions Committee Meeting
DESCRIPTION:The Promotion Committee serves as the marketing arm of the GMP\, the ‘Shop Local’ cheerleader of our local businesses and event coordinators for the community. The Promotions Committee is meeting at Hermit Woods Upstairs [except some summer months]. If you would like to attend\, please reach out to our Executive Director Mike Griffin\, gmp@ greatermeredith .org to be notified of any last-minute changes to this meeting.
URL:https://greatermeredith.org/event/promo-5-24/
CATEGORIES:Committee Meeting
END:VEVENT
BEGIN:VEVENT
DTSTART;TZID=America/New_York:20240508T163000
DTEND;TZID=America/New_York:20240508T173000
DTSTAMP:20260424T222752
CREATED:20231117T164911Z
LAST-MODIFIED:20240104T201255Z
UID:244963-1715185800-1715189400@greatermeredith.org
SUMMARY:Design & Beautification Committee Meeting
DESCRIPTION:The Design Committee has the goals of beautifying the Town of Meredith as well as improving the Town’s sense of place. The Design and Beautification Committee meets the first Wednesday of each month at 4:45pm at 185 Waukewan Road in Meredith (GMP offices). If you would like to attend\, please reach out to our Executive Director Mike Griffin for location details.
URL:https://greatermeredith.org/event/design-5-24/
CATEGORIES:Committee Meeting
END:VEVENT
BEGIN:VEVENT
DTSTART;TZID=America/New_York:20240508T080000
DTEND;TZID=America/New_York:20240508T090000
DTSTAMP:20260424T222752
CREATED:20231117T162247Z
LAST-MODIFIED:20231117T162531Z
UID:244938-1715155200-1715158800@greatermeredith.org
SUMMARY:Community & Economic Development Committee Meeting
DESCRIPTION:Identifying new market opportunities for economic development\, revitalizing historic commercial buildings\, and stimulating investment within  properties in Meredith\, NH. Building economic growth within the community. The committee members of the Community & Economic Development Committee will meet at the GMP office at 183 Waukewan Street. Non-members who are interested in attending: please first contact Natalie at info@meredithoptical.com.
URL:https://greatermeredith.org/event/econ-5-24/
CATEGORIES:Committee Meeting
END:VEVENT
BEGIN:VEVENT
DTSTART;TZID=America/New_York:20240417T170000
DTEND;TZID=America/New_York:20240417T180000
DTSTAMP:20260424T222752
CREATED:20231117T171116Z
LAST-MODIFIED:20231117T174524Z
UID:244983-1713373200-1713376800@greatermeredith.org
SUMMARY:Promotions Committee Meeting
DESCRIPTION:The Promotion Committee serves as the marketing arm of the GMP\, the ‘Shop Local’ cheerleader of our local businesses and event coordinators for the community. The Promotions Committee is meeting at Hermit Woods Upstairs [except some summer months]. If you would like to attend\, please reach out to our Executive Director Mike Griffin\, gmp@ greatermeredith .org to be notified of any last-minute changes to this meeting.
URL:https://greatermeredith.org/event/promo-4-24/
CATEGORIES:Committee Meeting
END:VEVENT
BEGIN:VEVENT
DTSTART;TZID=America/New_York:20240411T080000
DTEND;TZID=America/New_York:20240411T090000
DTSTAMP:20260424T222752
CREATED:20231117T175633Z
LAST-MODIFIED:20231117T175644Z
UID:245009-1712822400-1712826000@greatermeredith.org
SUMMARY:Executive Committee Meeting
DESCRIPTION:Our Executive Committee meets every other month at Hermit Woods Winery upstairs. This is an invitation-only meeting.
URL:https://greatermeredith.org/event/exec-4-24/
CATEGORIES:Committee Meeting
END:VEVENT
BEGIN:VEVENT
DTSTART;TZID=America/New_York:20240410T163000
DTEND;TZID=America/New_York:20240410T173000
DTSTAMP:20260424T222752
CREATED:20231117T164747Z
LAST-MODIFIED:20240104T201312Z
UID:244961-1712766600-1712770200@greatermeredith.org
SUMMARY:Design & Beautification Committee Meeting
DESCRIPTION:The Design Committee has the goals of beautifying the Town of Meredith as well as improving the Town’s sense of place. The Design and Beautification Committee meets the first Wednesday of each month at 4:45pm at 185 Waukewan Road in Meredith (GMP offices). If you would like to attend\, please reach out to our Executive Director Mike Griffin for location details.
URL:https://greatermeredith.org/event/design-4-24/
CATEGORIES:Committee Meeting
END:VEVENT
BEGIN:VEVENT
DTSTART;TZID=America/New_York:20240410T080000
DTEND;TZID=America/New_York:20240410T090000
DTSTAMP:20260424T222752
CREATED:20231117T162030Z
LAST-MODIFIED:20231117T162455Z
UID:244936-1712736000-1712739600@greatermeredith.org
SUMMARY:Community & Economic Development Committee Meeting
DESCRIPTION:Identifying new market opportunities for economic development\, revitalizing historic commercial buildings\, and stimulating investment within  properties in Meredith\, NH. Building economic growth within the community. The committee members of the Community & Economic Development Committee will meet at the GMP office at 183 Waukewan Street. Non-members who are interested in attending: please first contact Natalie at info@meredithoptical.com.
URL:https://greatermeredith.org/event/econ-4-24/
CATEGORIES:Committee Meeting
END:VEVENT
BEGIN:VEVENT
DTSTART;TZID=America/New_York:20240320T170000
DTEND;TZID=America/New_York:20240320T180000
DTSTAMP:20260424T222752
CREATED:20231117T174642Z
LAST-MODIFIED:20231117T174729Z
UID:245001-1710954000-1710957600@greatermeredith.org
SUMMARY:Promotions Committee Meeting
DESCRIPTION:The Promotion Committee serves as the marketing arm of the GMP\, the ‘Shop Local’ cheerleader of our local businesses and event coordinators for the community. The Promotions Committee is meeting at Hermit Woods Upstairs [except some summer months]. If you would like to attend\, please reach out to our Executive Director Mike Griffin\, gmp@ greatermeredith .org to be notified of any last-minute changes to this meeting.
URL:https://greatermeredith.org/event/promo-3-24/
CATEGORIES:Committee Meeting
END:VEVENT
END:VCALENDAR