BEGIN:VCALENDAR
VERSION:2.0
PRODID:-//Greater Meredith Program - ECPv6.15.20//NONSGML v1.0//EN
CALSCALE:GREGORIAN
METHOD:PUBLISH
X-WR-CALNAME:Greater Meredith Program
X-ORIGINAL-URL:https://greatermeredith.org
X-WR-CALDESC:Events for Greater Meredith Program
REFRESH-INTERVAL;VALUE=DURATION:PT1H
X-Robots-Tag:noindex
X-PUBLISHED-TTL:PT1H
BEGIN:VTIMEZONE
TZID:America/New_York
BEGIN:DAYLIGHT
TZOFFSETFROM:-0500
TZOFFSETTO:-0400
TZNAME:EDT
DTSTART:20220313T070000
END:DAYLIGHT
BEGIN:STANDARD
TZOFFSETFROM:-0400
TZOFFSETTO:-0500
TZNAME:EST
DTSTART:20221106T060000
END:STANDARD
BEGIN:DAYLIGHT
TZOFFSETFROM:-0500
TZOFFSETTO:-0400
TZNAME:EDT
DTSTART:20230312T070000
END:DAYLIGHT
BEGIN:STANDARD
TZOFFSETFROM:-0400
TZOFFSETTO:-0500
TZNAME:EST
DTSTART:20231105T060000
END:STANDARD
BEGIN:DAYLIGHT
TZOFFSETFROM:-0500
TZOFFSETTO:-0400
TZNAME:EDT
DTSTART:20240310T070000
END:DAYLIGHT
BEGIN:STANDARD
TZOFFSETFROM:-0400
TZOFFSETTO:-0500
TZNAME:EST
DTSTART:20241103T060000
END:STANDARD
END:VTIMEZONE
BEGIN:VEVENT
DTSTART;TZID=America/New_York:20231203T130000
DTEND;TZID=America/New_York:20231203T160000
DTSTAMP:20260426T002753
CREATED:20231129T175641Z
LAST-MODIFIED:20231129T175648Z
UID:245042-1701608400-1701619200@greatermeredith.org
SUMMARY:Christmas On Main
DESCRIPTION:Enjoy Holiday Lights\, Music\, Goodies & Deals With Participating Businesses! \n\n\n\nExtended Shopping Hours at 22 Main Street Shops & Restaurants \n\n\n\nHead to Mill Falls Marketplace to Visit With SANTA and Enter To Win a $500 Mill Falls Marketplace Shopping Spree! \n\n\n\nHesky Park Tree Lighting 5pm-5:30pm \n\n\n\nCookie Decorating\, Hot Cider\, Wine Tastings\, Discounts\, Free Samples\, Raffles… and more! \n\n\n\nParticipating Businesses:  \n\n\n\n\n48 Main Cafe & Creperie\n\n\n\nBonita Story Antiques\n\n\n\nCastle Nails\n\n\n\nEstes Collectible Investments\n\n\n\nFull Circle Vinyl\n\n\n\nHazel Moon Botanicals\n\n\n\nHermit Woods Winery & Deli\n\n\n\nJeremy Noyes Photography\n\n\n\nKarlins – Wine\, Cheese\, Provisions\n\n\n\nLake Effect\n\n\n\nLake Life 603\n\n\n\nMaxfield Real Estate\n\n\n\nMeredith Historical Society\n\n\n\nMeredith Whole Living Center\n\n\n\nNewfound Pet Center\n\n\n\nOnce New Vintage\n\n\n\nRISE Shabby Chic Boutique\n\n\n\nSageberry Candle Co\n\n\n\nThe Galleries at 30 Main\n\n\n\nThe Wellness Shop\n\n\n\nVida at the Lake\n\n\n\nWhite Birch Gifts
URL:https://greatermeredith.org/event/christmas-on-main/
CATEGORIES:Public Event
END:VEVENT
BEGIN:VEVENT
DTSTART;TZID=America/New_York:20231203T130000
DTEND;TZID=America/New_York:20231203T160000
DTSTAMP:20260426T002753
CREATED:20231129T175936Z
LAST-MODIFIED:20231129T175944Z
UID:245046-1701608400-1701619200@greatermeredith.org
SUMMARY:Mill Falls Marketplace Holiday Open House
DESCRIPTION:All Marketplace Businesses will have refreshments and/or specials available during Open House and Enter to Win a $500 Marketplace Shopping Spree at each location!
URL:https://greatermeredith.org/event/mill-falls-marketplace-holiday-open-house/
CATEGORIES:Public Event
END:VEVENT
END:VCALENDAR