BEGIN:VCALENDAR
VERSION:2.0
PRODID:-//Greater Meredith Program - ECPv6.15.20//NONSGML v1.0//EN
CALSCALE:GREGORIAN
METHOD:PUBLISH
X-ORIGINAL-URL:https://greatermeredith.org
X-WR-CALDESC:Events for Greater Meredith Program
REFRESH-INTERVAL;VALUE=DURATION:PT1H
X-Robots-Tag:noindex
X-PUBLISHED-TTL:PT1H
BEGIN:VTIMEZONE
TZID:America/New_York
BEGIN:DAYLIGHT
TZOFFSETFROM:-0500
TZOFFSETTO:-0400
TZNAME:EDT
DTSTART:20240310T070000
END:DAYLIGHT
BEGIN:STANDARD
TZOFFSETFROM:-0400
TZOFFSETTO:-0500
TZNAME:EST
DTSTART:20241103T060000
END:STANDARD
BEGIN:DAYLIGHT
TZOFFSETFROM:-0500
TZOFFSETTO:-0400
TZNAME:EDT
DTSTART:20250309T070000
END:DAYLIGHT
BEGIN:STANDARD
TZOFFSETFROM:-0400
TZOFFSETTO:-0500
TZNAME:EST
DTSTART:20251102T060000
END:STANDARD
BEGIN:DAYLIGHT
TZOFFSETFROM:-0500
TZOFFSETTO:-0400
TZNAME:EDT
DTSTART:20260308T070000
END:DAYLIGHT
BEGIN:STANDARD
TZOFFSETFROM:-0400
TZOFFSETTO:-0500
TZNAME:EST
DTSTART:20261101T060000
END:STANDARD
END:VTIMEZONE
BEGIN:VEVENT
DTSTART;TZID=America/New_York:20251001T080000
DTEND;TZID=America/New_York:20251031T170000
DTSTAMP:20260424T181355
CREATED:20250828T203744Z
LAST-MODIFIED:20251001T161528Z
UID:246622-1759305600-1761930000@greatermeredith.org
SUMMARY:Scarecrow Stroll 2025
DESCRIPTION:Dozens of local businesses are competing in the GMP Annual Scarecrow Stroll! Cast your vote for your favorite by Oct 30.  \n\n\n\n \n\n\n\n\nView the Interactive Map Here!\n\n\n\n\n \n\n\n\n\nLearn More Here!
URL:https://greatermeredith.org/event/scarecrow-stroll-2025/
CATEGORIES:Public Event
ATTACH;FMTTYPE=image/webp:https://greatermeredith.org/wp-content/uploads/2024/09/fullcircle-01.webp
END:VEVENT
END:VCALENDAR