BEGIN:VCALENDAR
VERSION:2.0
PRODID:-//Greater Meredith Program - ECPv6.15.20//NONSGML v1.0//EN
CALSCALE:GREGORIAN
METHOD:PUBLISH
X-WR-CALNAME:Greater Meredith Program
X-ORIGINAL-URL:https://greatermeredith.org
X-WR-CALDESC:Events for Greater Meredith Program
REFRESH-INTERVAL;VALUE=DURATION:PT1H
X-Robots-Tag:noindex
X-PUBLISHED-TTL:PT1H
BEGIN:VTIMEZONE
TZID:America/New_York
BEGIN:DAYLIGHT
TZOFFSETFROM:-0500
TZOFFSETTO:-0400
TZNAME:EDT
DTSTART:20250309T070000
END:DAYLIGHT
BEGIN:STANDARD
TZOFFSETFROM:-0400
TZOFFSETTO:-0500
TZNAME:EST
DTSTART:20251102T060000
END:STANDARD
BEGIN:DAYLIGHT
TZOFFSETFROM:-0500
TZOFFSETTO:-0400
TZNAME:EDT
DTSTART:20260308T070000
END:DAYLIGHT
BEGIN:STANDARD
TZOFFSETFROM:-0400
TZOFFSETTO:-0500
TZNAME:EST
DTSTART:20261101T060000
END:STANDARD
BEGIN:DAYLIGHT
TZOFFSETFROM:-0500
TZOFFSETTO:-0400
TZNAME:EDT
DTSTART:20270314T070000
END:DAYLIGHT
BEGIN:STANDARD
TZOFFSETFROM:-0400
TZOFFSETTO:-0500
TZNAME:EST
DTSTART:20271107T060000
END:STANDARD
END:VTIMEZONE
BEGIN:VEVENT
DTSTART;TZID=America/New_York:20260506T180000
DTEND;TZID=America/New_York:20260506T203000
DTSTAMP:20260424T112323
CREATED:20260123T170016Z
LAST-MODIFIED:20260421T143001Z
UID:246785-1778090400-1778099400@greatermeredith.org
SUMMARY:Trivia Night Fundraiser
DESCRIPTION:Join Us for Trivia Night!  \n\n\n\n\nPurchase Tickets\n\n\n\n\nGet ready to flex your brain muscles for a good cause! The Greater Meredith Program is hosting a Trivia Night Fundraiser to support our community efforts\, and we need you there! \n\n\n\nWhat to Expect:  \n\n\n\n\nFun trivia questions covering a variety of topics!\n\n\n\nCASH Prize for the top team ($100 per team member up to 6 players)! Second and Third team Prizes too!\n\n\n\n\nGather your friends\, family\, or colleagues and form a team to compete for bragging rights and fantastic prizes! Whether you’re a trivia whiz or just looking for a fun night out\, we’d love to see you there. \n\n\n\nWHERE: Hart’s Turkey Farm\, Meredith NH \n\n\n\nWHEN: Wednesday\, May 6 2026 | 6:00-6:45pm Cash Bar\, 7:00-8:30pm Trivia \n\n\n\nCost: $25 per person\, 6 people max per team \n\n\n\nRSVP by 4/24/26 to secure your spot! For more information\, contact us at gmp@greatermeredith.org or 603-279-9015 \n\n\n\nWhy Attend?Every dollar raised will make a real impact in our community. Together\, we can make a difference!
URL:https://greatermeredith.org/event/trivia-night-fundraiser/
CATEGORIES:Public Event,Ticketed Event
ATTACH;FMTTYPE=image/png:https://greatermeredith.org/wp-content/uploads/2026/04/REVised-Trivia-LDS-ad.png
END:VEVENT
BEGIN:VEVENT
DTSTART;TZID=America/New_York:20260516T130000
DTEND;TZID=America/New_York:20260516T150000
DTSTAMP:20260424T112324
CREATED:20260228T155434Z
LAST-MODIFIED:20260311T185751Z
UID:247034-1778936400-1778943600@greatermeredith.org
SUMMARY:Community Engagement Fair
DESCRIPTION:Location: Meredith Community Center Gymnasium\, 1 Circle Drive \n\n\n\nHosted by the GMP Volunteer Task Force \n\n\n\nThe Community Engagement Fair is a welcoming\, high-energy event designed to connect residents\, local nonprofits\, community groups\, and businesses with meaningful volunteer opportunities in and around Meredith. \n\n\n\nThis event is ideal for anyone who wants to get more involved in the community\, meet like-minded people\, discover local organizations doing important work\, or find a volunteer role that fits their interests\, skills\, and schedule. \n\n\n\nAttendees will have the chance to speak directly with representatives from local groups\, learn about upcoming projects and events\, and sign up to make a difference. Whether you’re new to the area\, looking to give back\, or simply curious about how you can be part of Meredith’s community spirit\, the Community Engagement Fair is the perfect place to start. \n\n\n\n\nOrganizations: Register HERE!
URL:https://greatermeredith.org/event/community-engagement-fair-2/
CATEGORIES:Public Event
ATTACH;FMTTYPE=image/png:https://greatermeredith.org/wp-content/uploads/2026/02/CommunityCenter.png
END:VEVENT
END:VCALENDAR