BEGIN:VCALENDAR
VERSION:2.0
PRODID:-//Greater Meredith Program - ECPv6.15.20//NONSGML v1.0//EN
CALSCALE:GREGORIAN
METHOD:PUBLISH
X-ORIGINAL-URL:https://greatermeredith.org
X-WR-CALDESC:Events for Greater Meredith Program
REFRESH-INTERVAL;VALUE=DURATION:PT1H
X-Robots-Tag:noindex
X-PUBLISHED-TTL:PT1H
BEGIN:VTIMEZONE
TZID:America/New_York
BEGIN:DAYLIGHT
TZOFFSETFROM:-0500
TZOFFSETTO:-0400
TZNAME:EDT
DTSTART:20220313T070000
END:DAYLIGHT
BEGIN:STANDARD
TZOFFSETFROM:-0400
TZOFFSETTO:-0500
TZNAME:EST
DTSTART:20221106T060000
END:STANDARD
BEGIN:DAYLIGHT
TZOFFSETFROM:-0500
TZOFFSETTO:-0400
TZNAME:EDT
DTSTART:20230312T070000
END:DAYLIGHT
BEGIN:STANDARD
TZOFFSETFROM:-0400
TZOFFSETTO:-0500
TZNAME:EST
DTSTART:20231105T060000
END:STANDARD
BEGIN:DAYLIGHT
TZOFFSETFROM:-0500
TZOFFSETTO:-0400
TZNAME:EDT
DTSTART:20240310T070000
END:DAYLIGHT
BEGIN:STANDARD
TZOFFSETFROM:-0400
TZOFFSETTO:-0500
TZNAME:EST
DTSTART:20241103T060000
END:STANDARD
BEGIN:DAYLIGHT
TZOFFSETFROM:-0500
TZOFFSETTO:-0400
TZNAME:EDT
DTSTART:20250309T070000
END:DAYLIGHT
BEGIN:STANDARD
TZOFFSETFROM:-0400
TZOFFSETTO:-0500
TZNAME:EST
DTSTART:20251102T060000
END:STANDARD
END:VTIMEZONE
BEGIN:VEVENT
DTSTART;TZID=America/New_York:20240601T100000
DTEND;TZID=America/New_York:20240601T170000
DTSTAMP:20260424T112446
CREATED:20240503T190953Z
LAST-MODIFIED:20240503T190958Z
UID:245272-1717236000-1717261200@greatermeredith.org
SUMMARY:Meredith on Canvas
DESCRIPTION:Get ready for Meredith on Canvas\, a Plein Air Event. This event\, organized by the Meredith On Canvas Group in conjunction with the Greater Meredith Program\, is excited to announce the sophomore year for plein air artists to paint at various areas on the Do-The-Loop Trail in Meredith on the first Saturday in June\, July and August\, with rain dates the second Saturdays of each month. The public is invited to a reception Saturday\, September 7th from 1-3pm featuring an artist meet and greet and sale at Karlins Wine\, Cheese & Provisions\, 20 Main Street in Meredith. After the show\, the work will be displayed and for sale at The Galleries at 30 Main thru September 30th.  \n\n\n\nPlein air painting is of or relating to painting in outdoor daylight. Or relating to a branch of impressionism that attempts to represent outdoor light and air. \n\n\n\nThe public is encouraged to use the Do The Loop map and come watch these amazing artists as they create beautiful works of art featuring the sights in and around the town of Meredith and Meredith Bay on Lake Winnipesaukee.
URL:https://greatermeredith.org/event/meredith-on-canvas-2/
CATEGORIES:Public Event
END:VEVENT
BEGIN:VEVENT
DTSTART;TZID=America/New_York:20240420T153000
DTEND;TZID=America/New_York:20240420T163000
DTSTAMP:20260424T112446
CREATED:20240308T165240Z
LAST-MODIFIED:20240308T165244Z
UID:245184-1713627000-1713630600@greatermeredith.org
SUMMARY:National Waterdance
DESCRIPTION:“Moving Forward Together” \n\n\n\n\n\n327 Daniel Webster Highway\, Meredith NH 03253 \n\n\n\n \n\n\n\n\nJoin Hundreds of communities across the United States in a live streamed event to\n\n\n\nCelebrate Our lakes and waterways with See Change Dance and NWD Projects!\n\n\n\nLearn about how the issues impacting the health of our watershed!\n\n\n\nDiscover how to be good caretakers of the beautiful waters that sustain our lives\n\n\n\n\n3:30 Welcome and Water Blessing4:00 Community Dance PerformanceCommunity Members are invited to gather at the picnic pavilion for a briefQ&A session with our Community Partners following the performance. \n\n\n\nThis event is free and open to the public.For tickets and information call 561-702-1286 or e-mailgaynellejr@bellsouth.netFor more information about National Water Dances\, visit www.NWDProjects.org.Community Partners for National Water Dance New Hampshire include Lakes RegionConservation Trust\, Lake Winnipesaukee Association\, and NH Dance Collaborative.
URL:https://greatermeredith.org/event/national-waterdance/
CATEGORIES:Non-GMP Event,Public Event
END:VEVENT
BEGIN:VEVENT
DTSTART;TZID=America/New_York:20240111T180000
DTEND;TZID=America/New_York:20240111T200000
DTSTAMP:20260424T112446
CREATED:20230927T193842Z
LAST-MODIFIED:20240112T165938Z
UID:244828-1704996000-1705003200@greatermeredith.org
SUMMARY:Annual Meeting of the Greater Meredith Program
DESCRIPTION:Our Annual Meeting had a great turnout; keynote speaker Commissioner Taylor Caswell spoke on tourism\, the magic of Meredith\, and statewide efforts to make New Hampshire an affordable place to thrive.
URL:https://greatermeredith.org/event/annual-meeting-of-the-greater-meredith-program/
CATEGORIES:Public Event
END:VEVENT
BEGIN:VEVENT
DTSTART;TZID=America/New_York:20231203T130000
DTEND;TZID=America/New_York:20231203T160000
DTSTAMP:20260424T112446
CREATED:20231129T175936Z
LAST-MODIFIED:20231129T175944Z
UID:245046-1701608400-1701619200@greatermeredith.org
SUMMARY:Mill Falls Marketplace Holiday Open House
DESCRIPTION:All Marketplace Businesses will have refreshments and/or specials available during Open House and Enter to Win a $500 Marketplace Shopping Spree at each location!
URL:https://greatermeredith.org/event/mill-falls-marketplace-holiday-open-house/
CATEGORIES:Public Event
END:VEVENT
BEGIN:VEVENT
DTSTART;TZID=America/New_York:20231203T130000
DTEND;TZID=America/New_York:20231203T160000
DTSTAMP:20260424T112446
CREATED:20231129T175641Z
LAST-MODIFIED:20231129T175648Z
UID:245042-1701608400-1701619200@greatermeredith.org
SUMMARY:Christmas On Main
DESCRIPTION:Enjoy Holiday Lights\, Music\, Goodies & Deals With Participating Businesses! \n\n\n\nExtended Shopping Hours at 22 Main Street Shops & Restaurants \n\n\n\nHead to Mill Falls Marketplace to Visit With SANTA and Enter To Win a $500 Mill Falls Marketplace Shopping Spree! \n\n\n\nHesky Park Tree Lighting 5pm-5:30pm \n\n\n\nCookie Decorating\, Hot Cider\, Wine Tastings\, Discounts\, Free Samples\, Raffles… and more! \n\n\n\nParticipating Businesses:  \n\n\n\n\n48 Main Cafe & Creperie\n\n\n\nBonita Story Antiques\n\n\n\nCastle Nails\n\n\n\nEstes Collectible Investments\n\n\n\nFull Circle Vinyl\n\n\n\nHazel Moon Botanicals\n\n\n\nHermit Woods Winery & Deli\n\n\n\nJeremy Noyes Photography\n\n\n\nKarlins – Wine\, Cheese\, Provisions\n\n\n\nLake Effect\n\n\n\nLake Life 603\n\n\n\nMaxfield Real Estate\n\n\n\nMeredith Historical Society\n\n\n\nMeredith Whole Living Center\n\n\n\nNewfound Pet Center\n\n\n\nOnce New Vintage\n\n\n\nRISE Shabby Chic Boutique\n\n\n\nSageberry Candle Co\n\n\n\nThe Galleries at 30 Main\n\n\n\nThe Wellness Shop\n\n\n\nVida at the Lake\n\n\n\nWhite Birch Gifts
URL:https://greatermeredith.org/event/christmas-on-main/
CATEGORIES:Public Event
END:VEVENT
BEGIN:VEVENT
DTSTART;TZID=America/New_York:20231018T170000
DTEND;TZID=America/New_York:20231018T183000
DTSTAMP:20260424T112446
CREATED:20230928T140606Z
LAST-MODIFIED:20231002T151056Z
UID:244846-1697648400-1697653800@greatermeredith.org
SUMMARY:Altrusa's 10th Anniversary Community Dinner
DESCRIPTION:The Altrusa Club of Meredith is very proud to announce their 10th Anniversary of serving a monthly Community Dinner.  \n\n\n\nCommunity Dinners are held on the fourth Wednesday of each month (except for October\, November and December due to the holidays).  Please refer to our calendar of events for updates. \n\n\n\nThe doors open at 5:00 for coffee\, tea and visiting.  The meal is served at 5:30.  Please note that if the Inter-Lakes School District cancels school\, or closes school early due to inclement weather\, our community dinner will be cancelled as well.  The meal is free but donations are accepted and will be used to fund future community dinners.  If questions\, please call 603-520-0434. \n\n\n\nhttps://www.altrusameredithnh.org/
URL:https://greatermeredith.org/event/altrusas-10th-anniversary-community-dinner/
CATEGORIES:Non-GMP Event,Public Event
ATTACH;FMTTYPE=image/png:https://greatermeredith.org/wp-content/uploads/2023/09/altrusalogo.png
END:VEVENT
BEGIN:VEVENT
DTSTART;TZID=America/New_York:20231003T180000
DTEND;TZID=America/New_York:20231003T200000
DTSTAMP:20260424T112446
CREATED:20230928T133937Z
LAST-MODIFIED:20230928T133946Z
UID:244834-1696356000-1696363200@greatermeredith.org
SUMMARY:Meredith Library and Winnipesaukee Playhouse Film Screening & More!
DESCRIPTION:From the Meredith Library website:  \n\n\n\nWe are very happy to announce that on Tuesday October 3rd at 6 PM we will be hosting a night filled with song\, film\, and discussion at the Winnipesaukee Play House! Come join us for an unforgettable night and join in the fun! \n\n\n\nKicking off with a can’t miss song performance by the cast of the upcoming production of Fiddler on the Roof. Followed by a screening of “I’m Still Here” a short documentary that consists of a collection of real diary entries of young people who lived during the Holocaust read to you by a star studded cast including Ryan Gosling\, Elijah Wood\, Brittany Murphy\, Joaquin Phoenix\, and many others. Then stay for a round of discussion surrounding the film and the Holocaust lead by some of New Hampshire’s top experts! \n\n\n\nTickets are free! Registration is required! All unregistered guests are still welcome but run the risk of forfeiting their seats! \n\n\n\nYou can register by visiting us at the library or filling out this registration form: https://forms.gle/bVopCCV86SPugRzu7 \n\n\n\nCall 603-279-4303 today for more information! \n\n\n\nCONTACT: Samantha  samantha@meredithlibrary.org
URL:https://greatermeredith.org/event/meredith-library-and-winnipesaukee-playhouse-film-screening-more/
CATEGORIES:Non-GMP Event,Public Event
ATTACH;FMTTYPE=image/png:https://greatermeredith.org/wp-content/uploads/2023/03/playhouse-1.png
END:VEVENT
BEGIN:VEVENT
DTSTART;TZID=America/New_York:20231001T000000
DTEND;TZID=America/New_York:20231031T235959
DTSTAMP:20260424T112446
CREATED:20230906T161027Z
LAST-MODIFIED:20231002T150904Z
UID:244776-1696118400-1698796799@greatermeredith.org
SUMMARY:Scarecrow Stroll
DESCRIPTION:The town of Meredith will be packed with Scarecrows this October! \n \n \nMeredith’s Annual Scarecrow Stroll is a friendly competition among area businesses. This free\, family-friendly activity includes a raffle for the public. \n \n \nYou are invited to pick up a ballot at any participating business and vote for your favorite. Each ballot cast enters YOU into the raffle\, drawn at random and announced November 2. The raffle winner receives the coveted Cauldron of Goodies\, packed with treats and sponsored by DeTolla Dental. The business that receives the most ballot votes is the winner of the People’s Choice Award and will receive a trophy and bragging rights. \n \n \nA panel of judges will also assemble and determine which business has the most creative business-themed display. They’ll also receive a fun prize. \n \n \nAn interactive map of the Scarecrows can be seen HERE. Cast your ballots at one of three outdoor drop boxes: Hermit Woods Winery (72 Main St)\, the Meredith Historical Society (45 Main St) or the Meredith Area Chamber of Commerce (272 Daniel Webster Hwy).
URL:https://greatermeredith.org/event/scarecrow-stroll/
CATEGORIES:Public Event
END:VEVENT
BEGIN:VEVENT
DTSTART;TZID=America/New_York:20230908T180000
DTEND;TZID=America/New_York:20230908T213000
DTSTAMP:20260424T112446
CREATED:20230606T203423Z
LAST-MODIFIED:20230823T180323Z
UID:244534-1694196000-1694208600@greatermeredith.org
SUMMARY:September Street Dance
DESCRIPTION:Popular 4-piece cover band NO LIMITZ is taking the stage on Meredith’s Main Street for a fun night of dancing and socializing!  \n\n\n\nNew this year is the NIGHT MARKET: over a dozen Main Street shops will be open from 6pm to 10pm. Come visit your local merchants\, get a jump on holiday shopping\, and visit places you’ve never been before! As a treat\, Karlin’s is hosting a free wine tasting this day from 3-6pm. \n\n\n\nThere will be plenty of food trucks on hand. This is a free\, family-friendly activity that grows more popular each year!
URL:https://greatermeredith.org/event/september-street-dance/
CATEGORIES:Public Event
ATTACH;FMTTYPE=image/jpeg:https://greatermeredith.org/wp-content/uploads/2023/02/GMP-Street-Dance-9-9-22-_60-copy-scaled.jpg
END:VEVENT
BEGIN:VEVENT
DTSTART;TZID=America/New_York:20230827T110000
DTEND;TZID=America/New_York:20230827T130000
DTSTAMP:20260424T112446
CREATED:20230810T133255Z
LAST-MODIFIED:20230810T134028Z
UID:244731-1693134000-1693141200@greatermeredith.org
SUMMARY:Sunday Sculpture & Music in the Parks
DESCRIPTION:Music and Art come together in Meredith Parks \n\n\n\nJohn Irish\, one of the five performing artists\, for Sunday Sculpture and Music in the Parks\, will be playing at the “Henry David Thoreau” sculpture by Janice Rudolf in Scenic Park.\n\n\n\nMEREDITH — The Greater Meredith Program’s Meredith Sculpture Walk will offer Sunday Sculpture and Music in the Parks from 11 a.m. to 1 p.m. in Heskey and Scenic Parks on August 27\, 2023. Enjoy the Arts and Crafts festival sponsored by the Greater Meredith Area Chamber of Commerce on Main Street and then stroll on down to Meredith’s lakeside parks to enjoy music by local musicians who will play near the sculptures. \n\n\n\nMusicians will be stationed at five park locations on the Meredith Sculpture Walk. The sculpture locations and musicians in Heskey Park are # 18 “Loon in Flight”\, Paul and Kathy Hubert\, and #20 & 21 “Asteroid” and “Mega Dandelion”\, Rocket Rick. In Scenic Park\, # 24 “Henry David Thoreau”\, John Irish\, # 27 “Mother and Child”\, Bernie Blaum and #31 “Catching the Wind”\, Peter Brunette. \n\n\n\nThe Meredith Sculpture Walk is proud to promote its ten-year anniversary. Meredith Village Savings Bank is its anniversary presenting sponsor. A committee of the Greater Meredith Program\, the Meredith Sculpture Walk is committed to developing awareness and enjoyment of public art in Meredith\, NH for residents and visitors. It is a year-round\, outdoor\, juried exhibition. \n\n\n\nThis will be the tenth year for the sculpture walk featuring thirty-two works positioned throughout Meredith in high visibility areas along Main Street\, on the grounds of the Mill Falls complex and in the Hesky and Scenic lakeside parks. A record twenty-eight new sculptures have been installed this year. For more information and to download a map visit https://greatermeredith.org/gmp/sculpture-walk/ \n\n\n\nIn the event of rain\, the event is cancelled.
URL:https://greatermeredith.org/event/sunday-sculpture-music-in-the-parks/
CATEGORIES:Public Event
END:VEVENT
BEGIN:VEVENT
DTSTART;TZID=America/New_York:20230826T000000
DTEND;TZID=America/New_York:20230827T235959
DTSTAMP:20260424T112446
CREATED:20230517T174119Z
LAST-MODIFIED:20230517T174327Z
UID:244445-1693008000-1693180799@greatermeredith.org
SUMMARY:Fine Arts & Crafts Festival
DESCRIPTION:The Lakes Region Fine Arts & Crafts Festival is one of the oldest events in the Lakes Region and is hosted by the Meredith Area Chamber of  Commerce. Held on the Main Street and amid the shops at the Mill Falls Marketplace this Festival from the beginning has attracted high quality artists and craftsmen and continues to be one of the most respected arts and crafts events in the Lakes Region. \n\n\n\nThe 80+ juried artists and craftsmen will present high quality merchandise.  Featured in the craft category will be pottery\, leather\, wood products\, weaving\, quilting\, metal sculpture\, jewelry\, baskets\, dolls\, and toys.  Art work will include watercolor\, oil paintings\, pen and ink drawings\, photography\, and theorem paintings. \n\n\n\nMusical entertainment\, demonstrations and culinary delights add to the festive atmosphere as you stroll through the artisans and beautiful Meredith scenery. The show is both Saturday and Sunday from 9:00 a.m. to 5:00 p.m.  \n\n\n\nArtists\, click HERE to register a space!
URL:https://greatermeredith.org/event/fine-arts-crafts-festival/
CATEGORIES:Non-GMP Event,Public Event
END:VEVENT
BEGIN:VEVENT
DTSTART;TZID=America/New_York:20230806T130000
DTEND;TZID=America/New_York:20230806T150000
DTSTAMP:20260424T112446
CREATED:20230517T182850Z
LAST-MODIFIED:20230606T203030Z
UID:244453-1691326800-1691334000@greatermeredith.org
SUMMARY:Meredith on Canvas August
DESCRIPTION:Artist Reception / Meet the Artists \n\n\n\nKarlin’s Wine\, Cheese & Provisions. |  20 Main Street\, Meredith NH \n\n\n\nFor more information: meredithoncanvas@gmail.com
URL:https://greatermeredith.org/event/meredith-on-canvas/
CATEGORIES:Public Event
END:VEVENT
BEGIN:VEVENT
DTSTART;TZID=America/New_York:20230623T183000
DTEND;TZID=America/New_York:20230623T210000
DTSTAMP:20260424T112446
CREATED:20230217T190619Z
LAST-MODIFIED:20230623T131722Z
UID:242634-1687545000-1687554000@greatermeredith.org
SUMMARY:Street Dance June
DESCRIPTION:Join your neighbors and community Friday\, June 23 from 6:30-9pm as we dance the night away! NO LIMITZ is back and ready to lead the party. We’ll also have 5 food trucks on hand: Drink Positive\, Full Circle\, Tin Can Co\, Angry Hog and Beans & Greens.  \nThe Street Dance will be preceded by a live performance from an Annie & the Orphans tribute band on the same stage 5pm-6pm! Come celebrate the start of summer with your community! \n 
URL:https://greatermeredith.org/event/street-dance/
LOCATION:Community Park\, 71 Main Street\, Meredith\, NH\, 03253\, United States
CATEGORIES:Public Event
ATTACH;FMTTYPE=image/jpeg:https://greatermeredith.org/wp-content/uploads/2023/02/GMP-Street-Dance-9-9-22-_73-scaled.jpg
ORGANIZER;CN="Greater Meredith Program":MAILTO:gmp@greatermeredith.org
END:VEVENT
BEGIN:VEVENT
DTSTART;TZID=America/New_York:20230513T090000
DTEND;TZID=America/New_York:20230513T120000
DTSTAMP:20260424T112446
CREATED:20230411T170945Z
LAST-MODIFIED:20230411T171735Z
UID:244286-1683968400-1683979200@greatermeredith.org
SUMMARY:Lake Winni Cleanup
DESCRIPTION:Lake Winnipesaukee Community Cleanup to be held on Saturday\, May 13th from 9a to noon with a wrap-up party to be held at Goodhue Boat Company in Meredith.  \n\n\n\nCo-organized by: Meredith Rotary Club\, Lake Winnispesaukee Association & Winnipesaukee Community Cleanup [not a GMP event]
URL:https://greatermeredith.org/event/lake-winni-cleanup/
CATEGORIES:Non-GMP Event,Public Event
END:VEVENT
BEGIN:VEVENT
DTSTART;TZID=America/New_York:20230511T124500
DTEND;TZID=America/New_York:20230511T133000
DTSTAMP:20260424T112446
CREATED:20230323T161054Z
LAST-MODIFIED:20230323T161142Z
UID:243957-1683809100-1683811800@greatermeredith.org
SUMMARY:CPP | ILMHS Annual Spring Job Fair
DESCRIPTION:Are you a local business looking for after-school\, summer\, or part-time help? Join us for our annual spring job fair! Register early with Mike Griffin\, Director of Career Partnerships: michael.griffin@interlakes.org.
URL:https://greatermeredith.org/event/cpp-ilmhs-annual-spring-job-fair/
LOCATION:ILMHS Gymnasium\, 1 Laker Lane\, Meredith\, NH\, 03253\, United States
CATEGORIES:Public Event
ORGANIZER;CN="Greater Meredith Program":MAILTO:gmp@greatermeredith.org
END:VEVENT
BEGIN:VEVENT
DTSTART;TZID=America/New_York:20230507T100000
DTEND;TZID=America/New_York:20230507T170000
DTSTAMP:20260424T112446
CREATED:20230412T155520Z
LAST-MODIFIED:20230517T165838Z
UID:244307-1683453600-1683478800@greatermeredith.org
SUMMARY:Meredith on Canvas May
DESCRIPTION:Get ready for Meredith on Canvas\, a Plein Air Event. This event\, organized by the Meredith On Canvas Group in conjunction with the Greater Meredith Program\, is excited to announce the first ever event for plein air artists to paint at various areas On the Do-The-Loop Trail in Meredith on the first Sunday in May\, June\, and July\, with a reception in August 6 featuring an artist meet and greet and sale at Karlins Wine\, Cheese & Provisions\, 20 Main Street in Meredith. \n\n\n\nPlein air painting is of or relating to painting in outdoor daylight. Or relating to a branch of impressionism that attempts to represent outdoor light and air. \n\n\n\nThe public is encouraged to use the Do The Loop map and come watch these amazing artists as they create beautiful works of art featuring the sights in and around the town of Meredith and Meredith Bay on Lake Winnipesaukee. Contact meredithoncanvas@gmail.com with questions.
URL:https://greatermeredith.org/event/canvas-1/
CATEGORIES:Public Event
END:VEVENT
END:VCALENDAR