BEGIN:VCALENDAR
VERSION:2.0
PRODID:-//Greater Meredith Program - ECPv6.15.20//NONSGML v1.0//EN
CALSCALE:GREGORIAN
METHOD:PUBLISH
X-WR-CALNAME:Greater Meredith Program
X-ORIGINAL-URL:https://greatermeredith.org
X-WR-CALDESC:Events for Greater Meredith Program
REFRESH-INTERVAL;VALUE=DURATION:PT1H
X-Robots-Tag:noindex
X-PUBLISHED-TTL:PT1H
BEGIN:VTIMEZONE
TZID:America/New_York
BEGIN:DAYLIGHT
TZOFFSETFROM:-0500
TZOFFSETTO:-0400
TZNAME:EDT
DTSTART:20220313T070000
END:DAYLIGHT
BEGIN:STANDARD
TZOFFSETFROM:-0400
TZOFFSETTO:-0500
TZNAME:EST
DTSTART:20221106T060000
END:STANDARD
BEGIN:DAYLIGHT
TZOFFSETFROM:-0500
TZOFFSETTO:-0400
TZNAME:EDT
DTSTART:20230312T070000
END:DAYLIGHT
BEGIN:STANDARD
TZOFFSETFROM:-0400
TZOFFSETTO:-0500
TZNAME:EST
DTSTART:20231105T060000
END:STANDARD
BEGIN:DAYLIGHT
TZOFFSETFROM:-0500
TZOFFSETTO:-0400
TZNAME:EDT
DTSTART:20240310T070000
END:DAYLIGHT
BEGIN:STANDARD
TZOFFSETFROM:-0400
TZOFFSETTO:-0500
TZNAME:EST
DTSTART:20241103T060000
END:STANDARD
END:VTIMEZONE
BEGIN:VEVENT
DTSTART;TZID=America/New_York:20230517T170000
DTEND;TZID=America/New_York:20230517T180000
DTSTAMP:20260424T122558
CREATED:20230323T172146Z
LAST-MODIFIED:20230411T170232Z
UID:243986-1684342800-1684346400@greatermeredith.org
SUMMARY:Promotions Committee Meeting
DESCRIPTION:This is a monthly meeting of the GMP’s Promotions Committee. If you are interested in joining this committee\, please first reach out to our Executive Director Mike Griffin at gmp@greatermeredith.org.
URL:https://greatermeredith.org/event/promotions-committee-meeting-3/
LOCATION:Hermit Woods Winery\, 72 Main Street\, Meredith\, NH\, 03253
CATEGORIES:Committee Meeting
ORGANIZER;CN="Greater Meredith Program":MAILTO:gmp@greatermeredith.org
END:VEVENT
BEGIN:VEVENT
DTSTART;TZID=America/New_York:20230513T090000
DTEND;TZID=America/New_York:20230513T120000
DTSTAMP:20260424T122558
CREATED:20230411T170945Z
LAST-MODIFIED:20230411T171735Z
UID:244286-1683968400-1683979200@greatermeredith.org
SUMMARY:Lake Winni Cleanup
DESCRIPTION:Lake Winnipesaukee Community Cleanup to be held on Saturday\, May 13th from 9a to noon with a wrap-up party to be held at Goodhue Boat Company in Meredith.  \n\n\n\nCo-organized by: Meredith Rotary Club\, Lake Winnispesaukee Association & Winnipesaukee Community Cleanup [not a GMP event]
URL:https://greatermeredith.org/event/lake-winni-cleanup/
LOCATION:NH
CATEGORIES:Non-GMP Event,Public Event
END:VEVENT
BEGIN:VEVENT
DTSTART;TZID=America/New_York:20230511T124500
DTEND;TZID=America/New_York:20230511T133000
DTSTAMP:20260424T122558
CREATED:20230323T161054Z
LAST-MODIFIED:20230323T161142Z
UID:243957-1683809100-1683811800@greatermeredith.org
SUMMARY:CPP | ILMHS Annual Spring Job Fair
DESCRIPTION:Are you a local business looking for after-school\, summer\, or part-time help? Join us for our annual spring job fair! Register early with Mike Griffin\, Director of Career Partnerships: michael.griffin@interlakes.org.
URL:https://greatermeredith.org/event/cpp-ilmhs-annual-spring-job-fair/
LOCATION:ILMHS Gymnasium\, 1 Laker Lane\, Meredith\, NH\, 03253\, United States
CATEGORIES:Public Event
ORGANIZER;CN="Greater Meredith Program":MAILTO:gmp@greatermeredith.org
END:VEVENT
BEGIN:VEVENT
DTSTART;TZID=America/New_York:20230508T163000
DTEND;TZID=America/New_York:20230508T180000
DTSTAMP:20260424T122558
CREATED:20230324T180108Z
LAST-MODIFIED:20230324T180108Z
UID:244009-1683563400-1683568800@greatermeredith.org
SUMMARY:Sculpture Committee Meeting
DESCRIPTION:We will begin the process of selecting new sculptures from our Call to Artists campaign\, and begin scheduling installations and removals. Our sub-committees (Docents\, Ground Team\, Mural Selection and Gala Planning) will also be on this call.
URL:https://greatermeredith.org/event/sculpture-committee-meeting/
LOCATION:Virtual
CATEGORIES:Committee Meeting
ORGANIZER;CN="Greater Meredith Program":MAILTO:gmp@greatermeredith.org
END:VEVENT
BEGIN:VEVENT
DTSTART;TZID=America/New_York:20230507T100000
DTEND;TZID=America/New_York:20230507T170000
DTSTAMP:20260424T122558
CREATED:20230412T155520Z
LAST-MODIFIED:20230517T165838Z
UID:244307-1683453600-1683478800@greatermeredith.org
SUMMARY:Meredith on Canvas May
DESCRIPTION:Get ready for Meredith on Canvas\, a Plein Air Event. This event\, organized by the Meredith On Canvas Group in conjunction with the Greater Meredith Program\, is excited to announce the first ever event for plein air artists to paint at various areas On the Do-The-Loop Trail in Meredith on the first Sunday in May\, June\, and July\, with a reception in August 6 featuring an artist meet and greet and sale at Karlins Wine\, Cheese & Provisions\, 20 Main Street in Meredith. \n\n\n\nPlein air painting is of or relating to painting in outdoor daylight. Or relating to a branch of impressionism that attempts to represent outdoor light and air. \n\n\n\nThe public is encouraged to use the Do The Loop map and come watch these amazing artists as they create beautiful works of art featuring the sights in and around the town of Meredith and Meredith Bay on Lake Winnipesaukee. Contact meredithoncanvas@gmail.com with questions.
URL:https://greatermeredith.org/event/canvas-1/
LOCATION:NH
CATEGORIES:Public Event
END:VEVENT
BEGIN:VEVENT
DTSTART;TZID=America/New_York:20230503T170000
DTEND;TZID=America/New_York:20230503T190000
DTSTAMP:20260424T122558
CREATED:20230217T200017Z
LAST-MODIFIED:20230217T200017Z
UID:242663-1683133200-1683140400@greatermeredith.org
SUMMARY:Main Street Mixer
DESCRIPTION:This invite-only event is a Networking and Social Event for business owners listed on the Do the Loop Brochure as well as businesses who have been ‘in the loop’ under 1 year.
URL:https://greatermeredith.org/event/main-street-mixer/
LOCATION:Hermit Woods Winery\, 72 Main Street\, Meredith\, NH\, 03253
CATEGORIES:Invite-Only Event
ORGANIZER;CN="Greater Meredith Program":MAILTO:gmp@greatermeredith.org
END:VEVENT
BEGIN:VEVENT
DTSTART;TZID=America/New_York:20230420T080000
DTEND;TZID=America/New_York:20230420T090000
DTSTAMP:20260424T122558
CREATED:20230411T172300Z
LAST-MODIFIED:20230411T172350Z
UID:244294-1681977600-1681981200@greatermeredith.org
SUMMARY:Executive Committee Meeting
DESCRIPTION:Hermit Woods Upstairs – 72 Main St\, Meredith
URL:https://greatermeredith.org/event/executive-committee-meeting/
LOCATION:NH
CATEGORIES:Board Meeting
END:VEVENT
BEGIN:VEVENT
DTSTART;TZID=America/New_York:20230419T170000
DTEND;TZID=America/New_York:20230419T180000
DTSTAMP:20260424T122558
CREATED:20230217T200427Z
LAST-MODIFIED:20230419T180405Z
UID:242668-1681923600-1681927200@greatermeredith.org
SUMMARY:Promotions Committee Meeting
DESCRIPTION:This is a monthly meeting of the GMP’s Promotions Committee. If you are interested in joining this committee\, please first reach out to our Executive Director Mike Griffin at gmp@greatermeredith.org.
URL:https://greatermeredith.org/event/promotions-committee-meeting-2/
LOCATION:Hermit Woods Winery\, 72 Main Street\, Meredith\, NH\, 03253
CATEGORIES:Committee Meeting
END:VEVENT
BEGIN:VEVENT
DTSTART;TZID=America/New_York:20230401T180000
DTEND;TZID=America/New_York:20230401T203000
DTSTAMP:20260424T122558
CREATED:20230217T190952Z
LAST-MODIFIED:20230411T150037Z
UID:242450-1680372000-1680381000@greatermeredith.org
SUMMARY:Kentucky Derby Fundraiser
DESCRIPTION:There are still a few tickets available to this years’ Fundraiser!
URL:https://greatermeredith.org/event/kentucky-derby-fundraiser/
LOCATION:Church Landing\, 281 Daniel Webster Hwy\, MEREDITH\, NH\, 03253-6742\, United States
CATEGORIES:Ticketed Event
ORGANIZER;CN="Greater Meredith Program":MAILTO:gmp@greatermeredith.org
END:VEVENT
BEGIN:VEVENT
DTSTART;TZID=America/New_York:20230315T170000
DTEND;TZID=America/New_York:20230315T180000
DTSTAMP:20260424T122558
CREATED:20230217T200241Z
LAST-MODIFIED:20230411T151009Z
UID:242666-1678899600-1678903200@greatermeredith.org
SUMMARY:Promotions Committee Meeting
DESCRIPTION:This is a monthly meeting of the GMP’s Promotions Committee. If you are interested in joining this committee\, please first reach out to our Executive Director Mike Griffin at gmp@greatermeredith.org.
URL:https://greatermeredith.org/event/promotions-committee-meeting/
LOCATION:Hermit Woods Winery\, 72 Main Street\, Meredith\, NH\, 03253
CATEGORIES:Committee Meeting
ORGANIZER;CN="Greater Meredith Program":MAILTO:gmp@greatermeredith.org
END:VEVENT
END:VCALENDAR