BEGIN:VCALENDAR
VERSION:2.0
PRODID:-//Greater Meredith Program - ECPv6.15.20//NONSGML v1.0//EN
CALSCALE:GREGORIAN
METHOD:PUBLISH
X-ORIGINAL-URL:https://greatermeredith.org
X-WR-CALDESC:Events for Greater Meredith Program
REFRESH-INTERVAL;VALUE=DURATION:PT1H
X-Robots-Tag:noindex
X-PUBLISHED-TTL:PT1H
BEGIN:VTIMEZONE
TZID:America/New_York
BEGIN:DAYLIGHT
TZOFFSETFROM:-0500
TZOFFSETTO:-0400
TZNAME:EDT
DTSTART:20250309T070000
END:DAYLIGHT
BEGIN:STANDARD
TZOFFSETFROM:-0400
TZOFFSETTO:-0500
TZNAME:EST
DTSTART:20251102T060000
END:STANDARD
BEGIN:DAYLIGHT
TZOFFSETFROM:-0500
TZOFFSETTO:-0400
TZNAME:EDT
DTSTART:20260308T070000
END:DAYLIGHT
BEGIN:STANDARD
TZOFFSETFROM:-0400
TZOFFSETTO:-0500
TZNAME:EST
DTSTART:20261101T060000
END:STANDARD
BEGIN:DAYLIGHT
TZOFFSETFROM:-0500
TZOFFSETTO:-0400
TZNAME:EDT
DTSTART:20270314T070000
END:DAYLIGHT
BEGIN:STANDARD
TZOFFSETFROM:-0400
TZOFFSETTO:-0500
TZNAME:EST
DTSTART:20271107T060000
END:STANDARD
END:VTIMEZONE
BEGIN:VEVENT
DTSTART;TZID=America/New_York:20260609T163000
DTEND;TZID=America/New_York:20260609T173000
DTSTAMP:20260423T193255
CREATED:20260129T171812Z
LAST-MODIFIED:20260129T171815Z
UID:246921-1781022600-1781026200@greatermeredith.org
SUMMARY:Design Committee Meeting
DESCRIPTION:The Design Committee has the goals of beautifying the Town of Meredith as well as improving the Town’s sense of place. The Design and Beautification Committee meets the second Tuesday of each month at 4:30pm at rotating members’ homes\, except in winter months when they meet at Hermit Woods Winery. If you would like to attend\, please reach out to our Executive Director Heather LaDue for location details.
URL:https://greatermeredith.org/event/design-committee-meeting-18/
CATEGORIES:Committee Meeting
ATTACH;FMTTYPE=image/webp:https://greatermeredith.org/wp-content/uploads/2026/01/design.webp
END:VEVENT
BEGIN:VEVENT
DTSTART;TZID=America/New_York:20260610T083000
DTEND;TZID=America/New_York:20260610T093000
DTSTAMP:20260423T193255
CREATED:20260129T171729Z
LAST-MODIFIED:20260129T171732Z
UID:246919-1781080200-1781083800@greatermeredith.org
SUMMARY:Community & Economic Development Committee Meeting
DESCRIPTION:Identifying affordable housing opportunities for the town of Meredith\, bringing Main Street improvement suggestions to the town\, stimulating investment in downtown property\, and fostering a greater sense of community among residents. The committee members of the Community & Economic Development Committee meets on the 2nd Wednesday of each month at the GMP offices at 183 Waukewan Street. Non-members who are interested in attending: please first contact our Executive Director at gmp@greatermeredith.org.
URL:https://greatermeredith.org/event/community-economic-development-committee-meeting-18/
CATEGORIES:Committee Meeting
ATTACH;FMTTYPE=image/webp:https://greatermeredith.org/wp-content/uploads/2026/01/econ.webp
END:VEVENT
BEGIN:VEVENT
DTSTART;TZID=America/New_York:20260611T080000
DTEND;TZID=America/New_York:20260611T090000
DTSTAMP:20260423T193255
CREATED:20260129T171908Z
LAST-MODIFIED:20260129T171910Z
UID:246923-1781164800-1781168400@greatermeredith.org
SUMMARY:Executive Committee Meeting
DESCRIPTION:Our Executive Committee meets on the 2nd Thursday of every other month at Hermit Woods Winery upstairs. This is an invitation-only meeting.
URL:https://greatermeredith.org/event/executive-committee-meeting-11/
CATEGORIES:Committee Meeting,Invite-Only Event
ATTACH;FMTTYPE=image/webp:https://greatermeredith.org/wp-content/uploads/2026/01/exec.webp
END:VEVENT
BEGIN:VEVENT
DTSTART;TZID=America/New_York:20260617T170000
DTEND;TZID=America/New_York:20260617T180000
DTSTAMP:20260423T193255
CREATED:20260129T171639Z
LAST-MODIFIED:20260129T171643Z
UID:246917-1781715600-1781719200@greatermeredith.org
SUMMARY:Promotions Committee Meeting
DESCRIPTION:The Promotions Committee serves as the marketing arm of the GMP\, the ‘Shop Local’ cheerleader of our local businesses and event coordinators for the community. The Promotions Committee meets in Meredith on the third Wednesday of each month. If you would like to attend\, please reach out to our Executive Director Heather LaDue\, gmp@ greatermeredith .org to be advised of the location and notified of any last-minute changes to this meeting.
URL:https://greatermeredith.org/event/promotions-committee-meeting-25/
CATEGORIES:Committee Meeting
ATTACH;FMTTYPE=image/webp:https://greatermeredith.org/wp-content/uploads/2026/01/promotions.webp
END:VEVENT
BEGIN:VEVENT
DTSTART;TZID=America/New_York:20260626T180000
DTEND;TZID=America/New_York:20260626T213000
DTSTAMP:20260423T193255
CREATED:20260128T205349Z
LAST-MODIFIED:20260128T205422Z
UID:246859-1782496800-1782509400@greatermeredith.org
SUMMARY:Street Dance June 2026
DESCRIPTION:
URL:https://greatermeredith.org/event/street-dance-june-2026/
CATEGORIES:Public Event
ATTACH;FMTTYPE=image/jpeg:https://greatermeredith.org/wp-content/uploads/2023/06/GMP-Street-Dance-June-23-2023-_119-copy.jpg
END:VEVENT
BEGIN:VEVENT
DTSTART;TZID=America/New_York:20260708T083000
DTEND;TZID=America/New_York:20260708T093000
DTSTAMP:20260423T193255
CREATED:20260129T172208Z
LAST-MODIFIED:20260129T172212Z
UID:246929-1783499400-1783503000@greatermeredith.org
SUMMARY:Community & Economic Development Committee Meeting
DESCRIPTION:Identifying affordable housing opportunities for the town of Meredith\, bringing Main Street improvement suggestions to the town\, stimulating investment in downtown property\, and fostering a greater sense of community among residents. The committee members of the Community & Economic Development Committee meets on the 2nd Wednesday of each month at the GMP offices at 183 Waukewan Street. Non-members who are interested in attending: please first contact our Executive Director at gmp@greatermeredith.org.
URL:https://greatermeredith.org/event/community-economic-development-committee-meeting-19/
CATEGORIES:Committee Meeting
ATTACH;FMTTYPE=image/webp:https://greatermeredith.org/wp-content/uploads/2026/01/econ.webp
END:VEVENT
BEGIN:VEVENT
DTSTART;TZID=America/New_York:20260709T080000
DTEND;TZID=America/New_York:20260709T090000
DTSTAMP:20260423T193255
CREATED:20260129T172020Z
LAST-MODIFIED:20260129T172024Z
UID:246925-1783584000-1783587600@greatermeredith.org
SUMMARY:Board of Directors Meeting
DESCRIPTION:Our Board of Directors meets on the 2nd Thursday of every other month at Hermit Woods Winery upstairs. This is an invitation-only meeting; if you or your organization has an agenda item\, please bring it to any of our board members at least one week before the scheduled meeting.
URL:https://greatermeredith.org/event/board-of-directors-meeting-8/
CATEGORIES:Board Meeting
ATTACH;FMTTYPE=image/webp:https://greatermeredith.org/wp-content/uploads/2026/01/bod.webp
END:VEVENT
BEGIN:VEVENT
DTSTART;TZID=America/New_York:20260714T163000
DTEND;TZID=America/New_York:20260714T173000
DTSTAMP:20260423T193255
CREATED:20260129T172256Z
LAST-MODIFIED:20260129T172259Z
UID:246931-1784046600-1784050200@greatermeredith.org
SUMMARY:Design Committee Meeting
DESCRIPTION:The Design Committee has the goals of beautifying the Town of Meredith as well as improving the Town’s sense of place. The Design and Beautification Committee meets the second Tuesday of each month at 4:30pm at rotating members’ homes\, except in winter months when they meet at Hermit Woods Winery. If you would like to attend\, please reach out to our Executive Director Heather LaDue for location details.
URL:https://greatermeredith.org/event/design-committee-meeting-19/
CATEGORIES:Committee Meeting
ATTACH;FMTTYPE=image/webp:https://greatermeredith.org/wp-content/uploads/2026/01/design.webp
END:VEVENT
BEGIN:VEVENT
DTSTART;TZID=America/New_York:20260715T170000
DTEND;TZID=America/New_York:20260715T180000
DTSTAMP:20260423T193255
CREATED:20260129T172105Z
LAST-MODIFIED:20260129T172110Z
UID:246927-1784134800-1784138400@greatermeredith.org
SUMMARY:Promotions Committee Meeting
DESCRIPTION:The Promotions Committee serves as the marketing arm of the GMP\, the ‘Shop Local’ cheerleader of our local businesses and event coordinators for the community. The Promotions Committee meets in Meredith on the third Wednesday of each month. If you would like to attend\, please reach out to our Executive Director Heather LaDue\, gmp@ greatermeredith .org to be advised of the location and notified of any last-minute changes to this meeting.
URL:https://greatermeredith.org/event/promotions-committee-meeting-26/
CATEGORIES:Committee Meeting
ATTACH;FMTTYPE=image/webp:https://greatermeredith.org/wp-content/uploads/2026/01/promotions.webp
END:VEVENT
BEGIN:VEVENT
DTSTART;TZID=America/New_York:20260811T163000
DTEND;TZID=America/New_York:20260811T173000
DTSTAMP:20260423T193255
CREATED:20260129T172625Z
LAST-MODIFIED:20260129T172628Z
UID:246939-1786465800-1786469400@greatermeredith.org
SUMMARY:Design Committee Meeting
DESCRIPTION:The Design Committee has the goals of beautifying the Town of Meredith as well as improving the Town’s sense of place. The Design and Beautification Committee meets the second Tuesday of each month at 4:30pm at rotating members’ homes\, except in winter months when they meet at Hermit Woods Winery. If you would like to attend\, please reach out to our Executive Director Heather LaDue for location details.
URL:https://greatermeredith.org/event/design-committee-meeting-20/
CATEGORIES:Committee Meeting
ATTACH;FMTTYPE=image/webp:https://greatermeredith.org/wp-content/uploads/2026/01/design.webp
END:VEVENT
BEGIN:VEVENT
DTSTART;TZID=America/New_York:20260812T083000
DTEND;TZID=America/New_York:20260812T093000
DTSTAMP:20260423T193255
CREATED:20260129T172534Z
LAST-MODIFIED:20260129T172538Z
UID:246937-1786523400-1786527000@greatermeredith.org
SUMMARY:Community & Economic Development Committee Meeting
DESCRIPTION:Identifying affordable housing opportunities for the town of Meredith\, bringing Main Street improvement suggestions to the town\, stimulating investment in downtown property\, and fostering a greater sense of community among residents. The committee members of the Community & Economic Development Committee meets on the 2nd Wednesday of each month at the GMP offices at 183 Waukewan Street. Non-members who are interested in attending: please first contact our Executive Director at gmp@greatermeredith.org.
URL:https://greatermeredith.org/event/community-economic-development-committee-meeting-20/
CATEGORIES:Committee Meeting
ATTACH;FMTTYPE=image/webp:https://greatermeredith.org/wp-content/uploads/2026/01/econ.webp
END:VEVENT
BEGIN:VEVENT
DTSTART;TZID=America/New_York:20260813T080000
DTEND;TZID=America/New_York:20260813T090000
DTSTAMP:20260423T193255
CREATED:20260129T172400Z
LAST-MODIFIED:20260129T172403Z
UID:246933-1786608000-1786611600@greatermeredith.org
SUMMARY:Executive Committee Meeting
DESCRIPTION:Our Executive Committee meets on the 2nd Thursday of every other month at Hermit Woods Winery upstairs. This is an invitation-only meeting.
URL:https://greatermeredith.org/event/executive-committee-meeting-12/
CATEGORIES:Committee Meeting,Invite-Only Event
ATTACH;FMTTYPE=image/webp:https://greatermeredith.org/wp-content/uploads/2026/01/exec.webp
END:VEVENT
BEGIN:VEVENT
DTSTART;TZID=America/New_York:20260819T170000
DTEND;TZID=America/New_York:20260819T180000
DTSTAMP:20260423T193255
CREATED:20260129T172445Z
LAST-MODIFIED:20260129T172448Z
UID:246935-1787158800-1787162400@greatermeredith.org
SUMMARY:Promotions Committee Meeting
DESCRIPTION:The Promotions Committee serves as the marketing arm of the GMP\, the ‘Shop Local’ cheerleader of our local businesses and event coordinators for the community. The Promotions Committee meets in Meredith on the third Wednesday of each month. If you would like to attend\, please reach out to our Executive Director Heather LaDue\, gmp@ greatermeredith .org to be advised of the location and notified of any last-minute changes to this meeting.
URL:https://greatermeredith.org/event/promotions-committee-meeting-27/
CATEGORIES:Committee Meeting
ATTACH;FMTTYPE=image/webp:https://greatermeredith.org/wp-content/uploads/2026/01/promotions.webp
END:VEVENT
BEGIN:VEVENT
DTSTART;TZID=America/New_York:20260908T163000
DTEND;TZID=America/New_York:20260908T173000
DTSTAMP:20260423T193255
CREATED:20260129T173024Z
LAST-MODIFIED:20260129T173028Z
UID:246947-1788885000-1788888600@greatermeredith.org
SUMMARY:Design Committee Meeting
DESCRIPTION:The Design Committee has the goals of beautifying the Town of Meredith as well as improving the Town’s sense of place. The Design and Beautification Committee meets the second Tuesday of each month at 4:30pm at rotating members’ homes\, except in winter months when they meet at Hermit Woods Winery. If you would like to attend\, please reach out to our Executive Director Heather LaDue for location details.
URL:https://greatermeredith.org/event/design-committee-meeting-21/
CATEGORIES:Committee Meeting
ATTACH;FMTTYPE=image/webp:https://greatermeredith.org/wp-content/uploads/2026/01/design.webp
END:VEVENT
BEGIN:VEVENT
DTSTART;TZID=America/New_York:20260909T083000
DTEND;TZID=America/New_York:20260909T093000
DTSTAMP:20260423T193255
CREATED:20260129T172931Z
LAST-MODIFIED:20260129T172935Z
UID:246945-1788942600-1788946200@greatermeredith.org
SUMMARY:Community & Economic Development Committee Meeting
DESCRIPTION:Identifying affordable housing opportunities for the town of Meredith\, bringing Main Street improvement suggestions to the town\, stimulating investment in downtown property\, and fostering a greater sense of community among residents. The committee members of the Community & Economic Development Committee meets on the 2nd Wednesday of each month at the GMP offices at 183 Waukewan Street. Non-members who are interested in attending: please first contact our Executive Director at gmp@greatermeredith.org.
URL:https://greatermeredith.org/event/community-economic-development-committee-meeting-21/
CATEGORIES:Committee Meeting
ATTACH;FMTTYPE=image/webp:https://greatermeredith.org/wp-content/uploads/2026/01/econ.webp
END:VEVENT
BEGIN:VEVENT
DTSTART;TZID=America/New_York:20260910T080000
DTEND;TZID=America/New_York:20260910T090000
DTSTAMP:20260423T193255
CREATED:20260129T172735Z
LAST-MODIFIED:20260129T172739Z
UID:246941-1789027200-1789030800@greatermeredith.org
SUMMARY:Board of Directors Meeting
DESCRIPTION:Our Board of Directors meets on the 2nd Thursday of every other month at Hermit Woods Winery upstairs. This is an invitation-only meeting; if you or your organization has an agenda item\, please bring it to any of our board members at least one week before the scheduled meeting.
URL:https://greatermeredith.org/event/board-of-directors-meeting-9/
CATEGORIES:Board Meeting
ATTACH;FMTTYPE=image/webp:https://greatermeredith.org/wp-content/uploads/2026/01/bod.webp
END:VEVENT
BEGIN:VEVENT
DTSTART;TZID=America/New_York:20260911T180000
DTEND;TZID=America/New_York:20260911T213000
DTSTAMP:20260423T193255
CREATED:20260128T205516Z
LAST-MODIFIED:20260128T205519Z
UID:246861-1789149600-1789162200@greatermeredith.org
SUMMARY:Street Dance Sept 2026
DESCRIPTION:
URL:https://greatermeredith.org/event/street-dance-sept-2026/
CATEGORIES:Public Event
ATTACH;FMTTYPE=image/jpeg:https://greatermeredith.org/wp-content/uploads/2023/06/GMP-Street-Dance-June-23-2023-_138-copy.jpg
END:VEVENT
BEGIN:VEVENT
DTSTART;TZID=America/New_York:20260916T170000
DTEND;TZID=America/New_York:20260916T180000
DTSTAMP:20260423T193255
CREATED:20260129T172839Z
LAST-MODIFIED:20260129T172843Z
UID:246943-1789578000-1789581600@greatermeredith.org
SUMMARY:Promotions Committee Meeting
DESCRIPTION:The Promotions Committee serves as the marketing arm of the GMP\, the ‘Shop Local’ cheerleader of our local businesses and event coordinators for the community. The Promotions Committee meets in Meredith on the third Wednesday of each month. If you would like to attend\, please reach out to our Executive Director Heather LaDue\, gmp@ greatermeredith .org to be advised of the location and notified of any last-minute changes to this meeting.
URL:https://greatermeredith.org/event/promotions-committee-meeting-28/
CATEGORIES:Committee Meeting
ATTACH;FMTTYPE=image/webp:https://greatermeredith.org/wp-content/uploads/2026/01/promotions.webp
END:VEVENT
BEGIN:VEVENT
DTSTART;TZID=America/New_York:20261004T000000
DTEND;TZID=America/New_York:20261004T235959
DTSTAMP:20260423T193255
CREATED:20260129T180657Z
LAST-MODIFIED:20260129T180701Z
UID:246952-1791072000-1791158399@greatermeredith.org
SUMMARY:Chowderfest
DESCRIPTION:The Greater Meredith Program is bringing back CHOWDERFEST\, in Hesky Park! Stay tuned for times and more details.
URL:https://greatermeredith.org/event/chowderfest/
CATEGORIES:Public Event
END:VEVENT
BEGIN:VEVENT
DTSTART;TZID=America/New_York:20261008T080000
DTEND;TZID=America/New_York:20261008T090000
DTSTAMP:20260423T193255
CREATED:20260129T184908Z
LAST-MODIFIED:20260129T184912Z
UID:246954-1791446400-1791450000@greatermeredith.org
SUMMARY:Executive Committee Meeting
DESCRIPTION:Our Executive Committee meets on the 2nd Thursday of every other month at Hermit Woods Winery upstairs. This is an invitation-only meeting.
URL:https://greatermeredith.org/event/executive-committee-meeting-13/
CATEGORIES:Committee Meeting,Invite-Only Event
ATTACH;FMTTYPE=image/webp:https://greatermeredith.org/wp-content/uploads/2026/01/exec.webp
END:VEVENT
BEGIN:VEVENT
DTSTART;TZID=America/New_York:20261013T163000
DTEND;TZID=America/New_York:20261013T173000
DTSTAMP:20260423T193255
CREATED:20260129T185147Z
LAST-MODIFIED:20260129T185151Z
UID:246960-1791909000-1791912600@greatermeredith.org
SUMMARY:Design Committee Meeting
DESCRIPTION:The Design Committee has the goals of beautifying the Town of Meredith as well as improving the Town’s sense of place. The Design and Beautification Committee meets the second Tuesday of each month at 4:30pm at rotating members’ homes\, except in winter months when they meet at Hermit Woods Winery. If you would like to attend\, please reach out to our Executive Director Heather LaDue for location details.
URL:https://greatermeredith.org/event/design-committee-meeting-22/
CATEGORIES:Committee Meeting
ATTACH;FMTTYPE=image/webp:https://greatermeredith.org/wp-content/uploads/2026/01/design.webp
END:VEVENT
BEGIN:VEVENT
DTSTART;TZID=America/New_York:20261014T083000
DTEND;TZID=America/New_York:20261014T093000
DTSTAMP:20260423T193255
CREATED:20260129T185051Z
LAST-MODIFIED:20260129T185055Z
UID:246958-1791966600-1791970200@greatermeredith.org
SUMMARY:Community & Economic Development Committee Meeting
DESCRIPTION:Identifying affordable housing opportunities for the town of Meredith\, bringing Main Street improvement suggestions to the town\, stimulating investment in downtown property\, and fostering a greater sense of community among residents. The committee members of the Community & Economic Development Committee meets on the 2nd Wednesday of each month at the GMP offices at 183 Waukewan Street. Non-members who are interested in attending: please first contact our Executive Director at gmp@greatermeredith.org.
URL:https://greatermeredith.org/event/community-economic-development-committee-meeting-22/
CATEGORIES:Committee Meeting
ATTACH;FMTTYPE=image/webp:https://greatermeredith.org/wp-content/uploads/2026/01/econ.webp
END:VEVENT
BEGIN:VEVENT
DTSTART;TZID=America/New_York:20261021T170000
DTEND;TZID=America/New_York:20261021T180000
DTSTAMP:20260423T193255
CREATED:20260129T185003Z
LAST-MODIFIED:20260129T185006Z
UID:246956-1792602000-1792605600@greatermeredith.org
SUMMARY:Promotions Committee Meeting
DESCRIPTION:The Promotions Committee serves as the marketing arm of the GMP\, the ‘Shop Local’ cheerleader of our local businesses and event coordinators for the community. The Promotions Committee meets in Meredith on the third Wednesday of each month. If you would like to attend\, please reach out to our Executive Director Heather LaDue\, gmp@ greatermeredith .org to be advised of the location and notified of any last-minute changes to this meeting.
URL:https://greatermeredith.org/event/promotions-committee-meeting-29/
CATEGORIES:Committee Meeting
ATTACH;FMTTYPE=image/webp:https://greatermeredith.org/wp-content/uploads/2026/01/promotions.webp
END:VEVENT
BEGIN:VEVENT
DTSTART;TZID=America/New_York:20261110T163000
DTEND;TZID=America/New_York:20261110T173000
DTSTAMP:20260423T193255
CREATED:20260129T185511Z
LAST-MODIFIED:20260129T185514Z
UID:246968-1794328200-1794331800@greatermeredith.org
SUMMARY:Design Committee Meeting
DESCRIPTION:The Design Committee has the goals of beautifying the Town of Meredith as well as improving the Town’s sense of place. The Design and Beautification Committee meets the second Tuesday of each month at 4:30pm at rotating members’ homes\, except in winter months when they meet at Hermit Woods Winery. If you would like to attend\, please reach out to our Executive Director Heather LaDue for location details.
URL:https://greatermeredith.org/event/design-committee-meeting-23/
CATEGORIES:Committee Meeting
ATTACH;FMTTYPE=image/webp:https://greatermeredith.org/wp-content/uploads/2026/01/design.webp
END:VEVENT
BEGIN:VEVENT
DTSTART;TZID=America/New_York:20261111T083000
DTEND;TZID=America/New_York:20261111T093000
DTSTAMP:20260423T193255
CREATED:20260129T185420Z
LAST-MODIFIED:20260129T185424Z
UID:246966-1794385800-1794389400@greatermeredith.org
SUMMARY:Community & Economic Development Committee Meeting
DESCRIPTION:Identifying affordable housing opportunities for the town of Meredith\, bringing Main Street improvement suggestions to the town\, stimulating investment in downtown property\, and fostering a greater sense of community among residents. The committee members of the Community & Economic Development Committee meets on the 2nd Wednesday of each month at the GMP offices at 183 Waukewan Street. Non-members who are interested in attending: please first contact our Executive Director at gmp@greatermeredith.org.
URL:https://greatermeredith.org/event/community-economic-development-committee-meeting-23/
CATEGORIES:Committee Meeting
ATTACH;FMTTYPE=image/webp:https://greatermeredith.org/wp-content/uploads/2026/01/econ.webp
END:VEVENT
BEGIN:VEVENT
DTSTART;TZID=America/New_York:20261112T080000
DTEND;TZID=America/New_York:20261112T090000
DTSTAMP:20260423T193255
CREATED:20260129T185335Z
LAST-MODIFIED:20260129T185338Z
UID:246964-1794470400-1794474000@greatermeredith.org
SUMMARY:Board of Directors Meeting
DESCRIPTION:Our Board of Directors meets on the 2nd Thursday of every other month at Hermit Woods Winery upstairs. This is an invitation-only meeting; if you or your organization has an agenda item\, please bring it to any of our board members at least one week before the scheduled meeting.
URL:https://greatermeredith.org/event/board-of-directors-meeting-10/
CATEGORIES:Board Meeting
ATTACH;FMTTYPE=image/webp:https://greatermeredith.org/wp-content/uploads/2026/01/bod.webp
END:VEVENT
BEGIN:VEVENT
DTSTART;TZID=America/New_York:20261118T170000
DTEND;TZID=America/New_York:20261118T180000
DTSTAMP:20260423T193255
CREATED:20260129T185248Z
LAST-MODIFIED:20260129T185252Z
UID:246962-1795021200-1795024800@greatermeredith.org
SUMMARY:Promotions Committee Meeting
DESCRIPTION:The Promotions Committee serves as the marketing arm of the GMP\, the ‘Shop Local’ cheerleader of our local businesses and event coordinators for the community. The Promotions Committee meets in Meredith on the third Wednesday of each month. If you would like to attend\, please reach out to our Executive Director Heather LaDue\, gmp@ greatermeredith .org to be advised of the location and notified of any last-minute changes to this meeting.
URL:https://greatermeredith.org/event/promotions-committee-meeting-30/
CATEGORIES:Committee Meeting
ATTACH;FMTTYPE=image/webp:https://greatermeredith.org/wp-content/uploads/2026/01/promotions.webp
END:VEVENT
BEGIN:VEVENT
DTSTART;TZID=America/New_York:20261208T163000
DTEND;TZID=America/New_York:20261208T173000
DTSTAMP:20260423T193255
CREATED:20260129T185919Z
LAST-MODIFIED:20260129T190009Z
UID:246976-1796747400-1796751000@greatermeredith.org
SUMMARY:Design Committee Meeting
DESCRIPTION:The Design Committee has the goals of beautifying the Town of Meredith as well as improving the Town’s sense of place. The Design and Beautification Committee meets the second Tuesday of each month at 4:30pm at rotating members’ homes\, except in winter months when they meet at Hermit Woods Winery. If you would like to attend\, please reach out to our Executive Director Heather LaDue for location details.
URL:https://greatermeredith.org/event/design-committee-meeting-24/
CATEGORIES:Committee Meeting
ATTACH;FMTTYPE=image/webp:https://greatermeredith.org/wp-content/uploads/2026/01/design.webp
END:VEVENT
BEGIN:VEVENT
DTSTART;TZID=America/New_York:20261209T083000
DTEND;TZID=America/New_York:20261209T093000
DTSTAMP:20260423T193255
CREATED:20260129T185815Z
LAST-MODIFIED:20260129T185819Z
UID:246974-1796805000-1796808600@greatermeredith.org
SUMMARY:Community & Economic Development Committee Meeting
DESCRIPTION:Identifying affordable housing opportunities for the town of Meredith\, bringing Main Street improvement suggestions to the town\, stimulating investment in downtown property\, and fostering a greater sense of community among residents. The committee members of the Community & Economic Development Committee meets on the 2nd Wednesday of each month at the GMP offices at 183 Waukewan Street. Non-members who are interested in attending: please first contact our Executive Director at gmp@greatermeredith.org.
URL:https://greatermeredith.org/event/community-economic-development-committee-meeting-24/
CATEGORIES:Committee Meeting
ATTACH;FMTTYPE=image/webp:https://greatermeredith.org/wp-content/uploads/2026/01/econ.webp
END:VEVENT
BEGIN:VEVENT
DTSTART;TZID=America/New_York:20261210T080000
DTEND;TZID=America/New_York:20261210T090000
DTSTAMP:20260423T193255
CREATED:20260129T185611Z
LAST-MODIFIED:20260129T185615Z
UID:246970-1796889600-1796893200@greatermeredith.org
SUMMARY:Executive Committee Meeting
DESCRIPTION:Our Executive Committee meets on the 2nd Thursday of every other month at Hermit Woods Winery upstairs. This is an invitation-only meeting.
URL:https://greatermeredith.org/event/executive-committee-meeting-14/
CATEGORIES:Committee Meeting,Invite-Only Event
ATTACH;FMTTYPE=image/webp:https://greatermeredith.org/wp-content/uploads/2026/01/exec.webp
END:VEVENT
END:VCALENDAR