BEGIN:VCALENDAR
VERSION:2.0
PRODID:-//Greater Meredith Program - ECPv6.15.20//NONSGML v1.0//EN
CALSCALE:GREGORIAN
METHOD:PUBLISH
X-WR-CALNAME:Greater Meredith Program
X-ORIGINAL-URL:https://greatermeredith.org
X-WR-CALDESC:Events for Greater Meredith Program
REFRESH-INTERVAL;VALUE=DURATION:PT1H
X-Robots-Tag:noindex
X-PUBLISHED-TTL:PT1H
BEGIN:VTIMEZONE
TZID:America/New_York
BEGIN:DAYLIGHT
TZOFFSETFROM:-0500
TZOFFSETTO:-0400
TZNAME:EDT
DTSTART:20230312T070000
END:DAYLIGHT
BEGIN:STANDARD
TZOFFSETFROM:-0400
TZOFFSETTO:-0500
TZNAME:EST
DTSTART:20231105T060000
END:STANDARD
BEGIN:DAYLIGHT
TZOFFSETFROM:-0500
TZOFFSETTO:-0400
TZNAME:EDT
DTSTART:20240310T070000
END:DAYLIGHT
BEGIN:STANDARD
TZOFFSETFROM:-0400
TZOFFSETTO:-0500
TZNAME:EST
DTSTART:20241103T060000
END:STANDARD
BEGIN:DAYLIGHT
TZOFFSETFROM:-0500
TZOFFSETTO:-0400
TZNAME:EDT
DTSTART:20250309T070000
END:DAYLIGHT
BEGIN:STANDARD
TZOFFSETFROM:-0400
TZOFFSETTO:-0500
TZNAME:EST
DTSTART:20251102T060000
END:STANDARD
END:VTIMEZONE
BEGIN:VEVENT
DTSTART;TZID=America/New_York:20240102T170000
DTEND;TZID=America/New_York:20240102T180000
DTSTAMP:20260424T235014
CREATED:20231117T170806Z
LAST-MODIFIED:20231211T164239Z
UID:244979-1704214800-1704218400@greatermeredith.org
SUMMARY:Promotions Committee Meeting
DESCRIPTION:The Promotion Committee serves as the marketing arm of the GMP\, the ‘Shop Local’ cheerleader of our local businesses and event coordinators for the community. The Promotions Committee is meeting at the GMP office on Waukewan Street. If you would like to attend\, please reach out to our Executive Director Mike Griffin\, gmp@ greatermeredith .org to be notified of any last-minute changes to this meeting.
URL:https://greatermeredith.org/event/promo-1-24/
CATEGORIES:Committee Meeting
END:VEVENT
BEGIN:VEVENT
DTSTART;TZID=America/New_York:20240110T080000
DTEND;TZID=America/New_York:20240110T090000
DTSTAMP:20260424T235014
CREATED:20231117T161314Z
LAST-MODIFIED:20231117T161715Z
UID:244927-1704873600-1704877200@greatermeredith.org
SUMMARY:Community & Economic Development Committee Meeting
DESCRIPTION:Identifying new market opportunities for economic development\, revitalizing historic commercial buildings\, and stimulating investment within  properties in Meredith\, NH. Building economic growth within the community. The committee members of the Community & Economic Development Committee will meet at the GMP office at 183 Waukewan Street. Non-members who are interested in attending: please first contact Natalie at info@meredithoptical.com.
URL:https://greatermeredith.org/event/econ-1-24/
CATEGORIES:Committee Meeting
END:VEVENT
BEGIN:VEVENT
DTSTART;TZID=America/New_York:20240110T163000
DTEND;TZID=America/New_York:20240110T173000
DTSTAMP:20260424T235014
CREATED:20231117T164025Z
LAST-MODIFIED:20240104T201402Z
UID:244955-1704904200-1704907800@greatermeredith.org
SUMMARY:Design & Beautification Committee Meeting
DESCRIPTION:The Design Committee has the goals of beautifying the Town of Meredith as well as improving the Town’s sense of place. The Design and Beautification Committee meets the first Wednesday of each month at 4:45pm at 185 Waukewan Road in Meredith (GMP offices). If you would like to attend\, please reach out to our Executive Director Mike Griffin for location details.
URL:https://greatermeredith.org/event/design-1-24/
CATEGORIES:Committee Meeting
END:VEVENT
BEGIN:VEVENT
DTSTART;TZID=America/New_York:20240111T080000
DTEND;TZID=America/New_York:20240111T090000
DTSTAMP:20260424T235014
CREATED:20231117T175135Z
LAST-MODIFIED:20231117T175141Z
UID:245003-1704960000-1704963600@greatermeredith.org
SUMMARY:Board of Directors Meeting
DESCRIPTION:Our Board of Directors meets every other month at Hermit Woods Winery upstairs. This is an invitation-only meeting; if you or your organization has an agenda item\, please bring it to any of our board members at least one week before the scheduled meeting.
URL:https://greatermeredith.org/event/bod-1-24/
CATEGORIES:Board Meeting
END:VEVENT
BEGIN:VEVENT
DTSTART;TZID=America/New_York:20240111T180000
DTEND;TZID=America/New_York:20240111T200000
DTSTAMP:20260424T235014
CREATED:20230927T193842Z
LAST-MODIFIED:20240112T165938Z
UID:244828-1704996000-1705003200@greatermeredith.org
SUMMARY:Annual Meeting of the Greater Meredith Program
DESCRIPTION:Our Annual Meeting had a great turnout; keynote speaker Commissioner Taylor Caswell spoke on tourism\, the magic of Meredith\, and statewide efforts to make New Hampshire an affordable place to thrive.
URL:https://greatermeredith.org/event/annual-meeting-of-the-greater-meredith-program/
CATEGORIES:Public Event
END:VEVENT
END:VCALENDAR