BEGIN:VCALENDAR
VERSION:2.0
PRODID:-//Greater Meredith Program - ECPv6.15.20//NONSGML v1.0//EN
CALSCALE:GREGORIAN
METHOD:PUBLISH
X-ORIGINAL-URL:https://greatermeredith.org
X-WR-CALDESC:Events for Greater Meredith Program
REFRESH-INTERVAL;VALUE=DURATION:PT1H
X-Robots-Tag:noindex
X-PUBLISHED-TTL:PT1H
BEGIN:VTIMEZONE
TZID:America/New_York
BEGIN:DAYLIGHT
TZOFFSETFROM:-0500
TZOFFSETTO:-0400
TZNAME:EDT
DTSTART:20230312T070000
END:DAYLIGHT
BEGIN:STANDARD
TZOFFSETFROM:-0400
TZOFFSETTO:-0500
TZNAME:EST
DTSTART:20231105T060000
END:STANDARD
BEGIN:DAYLIGHT
TZOFFSETFROM:-0500
TZOFFSETTO:-0400
TZNAME:EDT
DTSTART:20240310T070000
END:DAYLIGHT
BEGIN:STANDARD
TZOFFSETFROM:-0400
TZOFFSETTO:-0500
TZNAME:EST
DTSTART:20241103T060000
END:STANDARD
BEGIN:DAYLIGHT
TZOFFSETFROM:-0500
TZOFFSETTO:-0400
TZNAME:EDT
DTSTART:20250309T070000
END:DAYLIGHT
BEGIN:STANDARD
TZOFFSETFROM:-0400
TZOFFSETTO:-0500
TZNAME:EST
DTSTART:20251102T060000
END:STANDARD
END:VTIMEZONE
BEGIN:VEVENT
DTSTART;TZID=America/New_York:20240208T080000
DTEND;TZID=America/New_York:20240208T090000
DTSTAMP:20260424T224859
CREATED:20231117T181301Z
LAST-MODIFIED:20231117T181307Z
UID:245029-1707379200-1707382800@greatermeredith.org
SUMMARY:Executive Committee Meeting
DESCRIPTION:Our Executive Committee meets every other month at Hermit Woods Winery upstairs. This is an invitation-only meeting.
URL:https://greatermeredith.org/event/exec-2-24/
CATEGORIES:Committee Meeting
END:VEVENT
BEGIN:VEVENT
DTSTART;TZID=America/New_York:20240214T080000
DTEND;TZID=America/New_York:20240214T090000
DTSTAMP:20260424T224859
CREATED:20231117T161445Z
LAST-MODIFIED:20231117T161753Z
UID:244929-1707897600-1707901200@greatermeredith.org
SUMMARY:Community & Economic Development Committee Meeting
DESCRIPTION:Identifying new market opportunities for economic development\, revitalizing historic commercial buildings\, and stimulating investment within  properties in Meredith\, NH. Building economic growth within the community. The committee members of the Community & Economic Development Committee will meet at the GMP office at 183 Waukewan Street. Non-members who are interested in attending: please first contact Natalie at info@meredithoptical.com.
URL:https://greatermeredith.org/event/econ-2-24/
CATEGORIES:Committee Meeting
END:VEVENT
BEGIN:VEVENT
DTSTART;TZID=America/New_York:20240214T163000
DTEND;TZID=America/New_York:20240214T173000
DTSTAMP:20260424T224859
CREATED:20231117T164147Z
LAST-MODIFIED:20240104T201345Z
UID:244957-1707928200-1707931800@greatermeredith.org
SUMMARY:Design & Beautification Committee Meeting
DESCRIPTION:The Design Committee has the goals of beautifying the Town of Meredith as well as improving the Town’s sense of place. The Design and Beautification Committee meets the first Wednesday of each month at 4:45pm at 185 Waukewan Road in Meredith (GMP offices). If you would like to attend\, please reach out to our Executive Director Mike Griffin for location details.
URL:https://greatermeredith.org/event/design-2-24/
CATEGORIES:Committee Meeting
END:VEVENT
BEGIN:VEVENT
DTSTART;TZID=America/New_York:20240221T170000
DTEND;TZID=America/New_York:20240221T180000
DTSTAMP:20260424T224859
CREATED:20231117T170944Z
LAST-MODIFIED:20240112T152507Z
UID:244981-1708534800-1708538400@greatermeredith.org
SUMMARY:Promotions Committee Meeting
DESCRIPTION:The Promotion Committee serves as the marketing arm of the GMP\, the ‘Shop Local’ cheerleader of our local businesses and event coordinators for the community. The Promotions Committee is meeting at the GMP office on Waukewan Street. If you would like to attend\, please reach out to Becky Fuller\, becky@lakeandislandproperties.com to be notified of any last-minute changes to this meeting.
URL:https://greatermeredith.org/event/promo-2-24/
CATEGORIES:Committee Meeting
END:VEVENT
END:VCALENDAR