BEGIN:VCALENDAR
VERSION:2.0
PRODID:-//Greater Meredith Program - ECPv6.15.20//NONSGML v1.0//EN
CALSCALE:GREGORIAN
METHOD:PUBLISH
X-WR-CALNAME:Greater Meredith Program
X-ORIGINAL-URL:https://greatermeredith.org
X-WR-CALDESC:Events for Greater Meredith Program
REFRESH-INTERVAL;VALUE=DURATION:PT1H
X-Robots-Tag:noindex
X-PUBLISHED-TTL:PT1H
BEGIN:VTIMEZONE
TZID:America/New_York
BEGIN:DAYLIGHT
TZOFFSETFROM:-0500
TZOFFSETTO:-0400
TZNAME:EDT
DTSTART:20240310T070000
END:DAYLIGHT
BEGIN:STANDARD
TZOFFSETFROM:-0400
TZOFFSETTO:-0500
TZNAME:EST
DTSTART:20241103T060000
END:STANDARD
BEGIN:DAYLIGHT
TZOFFSETFROM:-0500
TZOFFSETTO:-0400
TZNAME:EDT
DTSTART:20250309T070000
END:DAYLIGHT
BEGIN:STANDARD
TZOFFSETFROM:-0400
TZOFFSETTO:-0500
TZNAME:EST
DTSTART:20251102T060000
END:STANDARD
BEGIN:DAYLIGHT
TZOFFSETFROM:-0500
TZOFFSETTO:-0400
TZNAME:EDT
DTSTART:20260308T070000
END:DAYLIGHT
BEGIN:STANDARD
TZOFFSETFROM:-0400
TZOFFSETTO:-0500
TZNAME:EST
DTSTART:20261101T060000
END:STANDARD
END:VTIMEZONE
BEGIN:VEVENT
DTSTART;TZID=America/New_York:20250108T080000
DTEND;TZID=America/New_York:20250108T090000
DTSTAMP:20260424T080438
CREATED:20241211T185505Z
LAST-MODIFIED:20241211T185513Z
UID:245770-1736323200-1736326800@greatermeredith.org
SUMMARY:Community & Economic Development Committee Meeting
DESCRIPTION:Identifying affordable housing opportunities for the town of Meredith\, bringing Main Street improvement suggestions to the town\, stimulating investment in downtown property\, and fostering a greater sense of community among residents. The committee members of the Community & Economic Development Committee meets at the GMP offices at 183 Waukewan Street. Non-members who are interested in attending: please first contact our Executive Director at gmp@greatermeredith.org.
URL:https://greatermeredith.org/event/community-economic-development-committee-meeting/
CATEGORIES:Committee Meeting
END:VEVENT
BEGIN:VEVENT
DTSTART;TZID=America/New_York:20250109T180000
DTEND;TZID=America/New_York:20250109T200000
DTSTAMP:20260424T080438
CREATED:20240925T222147Z
LAST-MODIFIED:20241108T205345Z
UID:245583-1736445600-1736452800@greatermeredith.org
SUMMARY:Annual Meeting 2024
DESCRIPTION:Where: Church Landing at Mill Falls\, 281 Daniel Webster Highway Meredith \n \n \n \n \nJoin us for an inspiring evening at “Meredith Momentum: Celebrating Community and New Beginnings!” \n \n \nOn January 9th\, from 6-8 p.m. at Church Landing\, we’re honoring the dedication and passion of our amazing GMP volunteers who make Meredith shine. The evening will also feature a panel of new local business owners sharing why they chose to open their doors in Meredith. Come connect\, celebrate\, and see the momentum building in our community! Enjoy light refreshments and a warm\, welcoming atmosphere as we toast to an exciting year ahead.
URL:https://greatermeredith.org/event/annual-meeting-2024/
CATEGORIES:Public Event
END:VEVENT
BEGIN:VEVENT
DTSTART;TZID=America/New_York:20250114T163000
DTEND;TZID=America/New_York:20250114T173000
DTSTAMP:20260424T080438
CREATED:20241211T183537Z
LAST-MODIFIED:20241211T183547Z
UID:245745-1736872200-1736875800@greatermeredith.org
SUMMARY:Design Committee Meeting
DESCRIPTION:Location: Hermit Woods Winery \n\n\n\nThe Design Committee has the goals of beautifying the Town of Meredith as well as improving the Town’s sense of place. The Design and Beautification Committee meets the second Tuesday of each month at 4:30pm at rotating members’ homes\, except in winter months when they meet at Hermit Woods Winery. If you would like to attend\, please reach out to our Executive Director Heather LaDue for location details.
URL:https://greatermeredith.org/event/design-committee-meeting/
CATEGORIES:Committee Meeting
END:VEVENT
BEGIN:VEVENT
DTSTART;TZID=America/New_York:20250115T170000
DTEND;TZID=America/New_York:20250115T180000
DTSTAMP:20260424T080438
CREATED:20241212T185832Z
LAST-MODIFIED:20250110T171509Z
UID:245827-1736960400-1736964000@greatermeredith.org
SUMMARY:Promotions Committee Meeting
DESCRIPTION:The Promotions Committee serves as the marketing arm of the GMP\, the ‘Shop Local’ cheerleader of our local businesses and event coordinators for the community. The Promotions Committee meets in Meredith on the third Wednesday of each month. If you would like to attend\, please reach out to our Executive Director Heather LaDue\, gmp@ greatermeredith .org to be advised of the location and notified of any last-minute changes to this meeting.
URL:https://greatermeredith.org/event/promotions-committee-meeting-8/
CATEGORIES:Committee Meeting
END:VEVENT
END:VCALENDAR