BEGIN:VCALENDAR
VERSION:2.0
PRODID:-//Greater Meredith Program - ECPv6.15.20//NONSGML v1.0//EN
CALSCALE:GREGORIAN
METHOD:PUBLISH
X-WR-CALNAME:Greater Meredith Program
X-ORIGINAL-URL:https://greatermeredith.org
X-WR-CALDESC:Events for Greater Meredith Program
REFRESH-INTERVAL;VALUE=DURATION:PT1H
X-Robots-Tag:noindex
X-PUBLISHED-TTL:PT1H
BEGIN:VTIMEZONE
TZID:America/New_York
BEGIN:DAYLIGHT
TZOFFSETFROM:-0500
TZOFFSETTO:-0400
TZNAME:EDT
DTSTART:20240310T070000
END:DAYLIGHT
BEGIN:STANDARD
TZOFFSETFROM:-0400
TZOFFSETTO:-0500
TZNAME:EST
DTSTART:20241103T060000
END:STANDARD
BEGIN:DAYLIGHT
TZOFFSETFROM:-0500
TZOFFSETTO:-0400
TZNAME:EDT
DTSTART:20250309T070000
END:DAYLIGHT
BEGIN:STANDARD
TZOFFSETFROM:-0400
TZOFFSETTO:-0500
TZNAME:EST
DTSTART:20251102T060000
END:STANDARD
BEGIN:DAYLIGHT
TZOFFSETFROM:-0500
TZOFFSETTO:-0400
TZNAME:EDT
DTSTART:20260308T070000
END:DAYLIGHT
BEGIN:STANDARD
TZOFFSETFROM:-0400
TZOFFSETTO:-0500
TZNAME:EST
DTSTART:20261101T060000
END:STANDARD
END:VTIMEZONE
BEGIN:VEVENT
DTSTART;TZID=America/New_York:20250211T163000
DTEND;TZID=America/New_York:20250211T173000
DTSTAMP:20260424T064329
CREATED:20241211T183719Z
LAST-MODIFIED:20241211T183726Z
UID:245748-1739291400-1739295000@greatermeredith.org
SUMMARY:Design Committee Meeting
DESCRIPTION:Location: Hermit Woods Winery \n\n\n\nThe Design Committee has the goals of beautifying the Town of Meredith as well as improving the Town’s sense of place. The Design and Beautification Committee meets the second Tuesday of each month at 4:30pm at rotating members’ homes\, except in winter months when they meet at Hermit Woods Winery. If you would like to attend\, please reach out to our Executive Director Heather LaDue for location details.
URL:https://greatermeredith.org/event/design-committee-meeting-2/
CATEGORIES:Committee Meeting
END:VEVENT
BEGIN:VEVENT
DTSTART;TZID=America/New_York:20250212T080000
DTEND;TZID=America/New_York:20250212T090000
DTSTAMP:20260424T064329
CREATED:20241211T185614Z
LAST-MODIFIED:20250110T172502Z
UID:245772-1739347200-1739350800@greatermeredith.org
SUMMARY:Community & Economic Development Committee Meeting
DESCRIPTION:Identifying affordable housing opportunities for the town of Meredith\, bringing Main Street improvement suggestions to the town\, stimulating investment in downtown property\, and fostering a greater sense of community among residents. The committee members of the Community & Economic Development Committee meet on the 2nd Wednesday of each month at the GMP offices at 183 Waukewan Street. Non-members who are interested in attending: please first contact our Executive Director at gmp@greatermeredith.org.
URL:https://greatermeredith.org/event/community-economic-development-committee-meeting-2/
CATEGORIES:Committee Meeting
END:VEVENT
BEGIN:VEVENT
DTSTART;TZID=America/New_York:20250213T080000
DTEND;TZID=America/New_York:20250213T090000
DTSTAMP:20260424T064329
CREATED:20241211T193339Z
LAST-MODIFIED:20250110T172946Z
UID:245796-1739433600-1739437200@greatermeredith.org
SUMMARY:Executive Committee Meeting
DESCRIPTION:Our Executive Committee meets on the 2nd Thursday of every other month at Hermit Woods Winery upstairs. This is an invitation-only meeting.
URL:https://greatermeredith.org/event/executive-committee-meeting-3/
CATEGORIES:Board Meeting
END:VEVENT
BEGIN:VEVENT
DTSTART;TZID=America/New_York:20250219T170000
DTEND;TZID=America/New_York:20250219T180000
DTSTAMP:20260424T064329
CREATED:20241212T185943Z
LAST-MODIFIED:20250110T171424Z
UID:245829-1739984400-1739988000@greatermeredith.org
SUMMARY:Promotions Committee Meeting
DESCRIPTION:The Promotions Committee serves as the marketing arm of the GMP\, the ‘Shop Local’ cheerleader of our local businesses and event coordinators for the community. The Promotions Committee meets in Meredith on the third Wednesday of each month. If you would like to attend\, please reach out to our Executive Director Heather LaDue\, gmp@ greatermeredith .org to be advised of the location and notified of any last-minute changes to this meeting.
URL:https://greatermeredith.org/event/promotions-committee-meeting-9/
CATEGORIES:Committee Meeting
END:VEVENT
END:VCALENDAR