BEGIN:VCALENDAR
VERSION:2.0
PRODID:-//Greater Meredith Program - ECPv6.15.20//NONSGML v1.0//EN
CALSCALE:GREGORIAN
METHOD:PUBLISH
X-ORIGINAL-URL:https://greatermeredith.org
X-WR-CALDESC:Events for Greater Meredith Program
REFRESH-INTERVAL;VALUE=DURATION:PT1H
X-Robots-Tag:noindex
X-PUBLISHED-TTL:PT1H
BEGIN:VTIMEZONE
TZID:America/New_York
BEGIN:DAYLIGHT
TZOFFSETFROM:-0500
TZOFFSETTO:-0400
TZNAME:EDT
DTSTART:20240310T070000
END:DAYLIGHT
BEGIN:STANDARD
TZOFFSETFROM:-0400
TZOFFSETTO:-0500
TZNAME:EST
DTSTART:20241103T060000
END:STANDARD
BEGIN:DAYLIGHT
TZOFFSETFROM:-0500
TZOFFSETTO:-0400
TZNAME:EDT
DTSTART:20250309T070000
END:DAYLIGHT
BEGIN:STANDARD
TZOFFSETFROM:-0400
TZOFFSETTO:-0500
TZNAME:EST
DTSTART:20251102T060000
END:STANDARD
BEGIN:DAYLIGHT
TZOFFSETFROM:-0500
TZOFFSETTO:-0400
TZNAME:EDT
DTSTART:20260308T070000
END:DAYLIGHT
BEGIN:STANDARD
TZOFFSETFROM:-0400
TZOFFSETTO:-0500
TZNAME:EST
DTSTART:20261101T060000
END:STANDARD
END:VTIMEZONE
BEGIN:VEVENT
DTSTART;TZID=America/New_York:20250610T163000
DTEND;TZID=America/New_York:20250610T173000
DTSTAMP:20260424T014139
CREATED:20241211T184248Z
LAST-MODIFIED:20241211T184257Z
UID:245756-1749573000-1749576600@greatermeredith.org
SUMMARY:Design Committee Meeting
DESCRIPTION:Location: Rotate to Member’s Homes \n\n\n\nThe Design Committee has the goals of beautifying the Town of Meredith as well as improving the Town’s sense of place. The Design and Beautification Committee meets the second Tuesday of each month at 4:30pm at rotating members’ homes\, except in winter months when they meet at Hermit Woods Winery. If you would like to attend\, please reach out to our Executive Director Heather LaDue for location details.
URL:https://greatermeredith.org/event/design-committee-meeting-6/
CATEGORIES:Committee Meeting
END:VEVENT
BEGIN:VEVENT
DTSTART;TZID=America/New_York:20250611T083000
DTEND;TZID=America/New_York:20250611T093000
DTSTAMP:20260424T014139
CREATED:20241211T191429Z
LAST-MODIFIED:20250318T184713Z
UID:245780-1749630600-1749634200@greatermeredith.org
SUMMARY:Community & Economic Development Committee Meeting
DESCRIPTION:Identifying affordable housing opportunities for the town of Meredith\, bringing Main Street improvement suggestions to the town\, stimulating investment in downtown property\, and fostering a greater sense of community among residents. The committee members of the Community & Economic Development Committee meet on the 2nd Wednesday of each month at the GMP offices at 183 Waukewan Street. Non-members who are interested in attending: please first contact our Executive Director at gmp@greatermeredith.org.
URL:https://greatermeredith.org/event/community-economic-development-committee-meeting-6/
CATEGORIES:Committee Meeting
END:VEVENT
BEGIN:VEVENT
DTSTART;TZID=America/New_York:20250612T080000
DTEND;TZID=America/New_York:20250612T090000
DTSTAMP:20260424T014139
CREATED:20241211T193818Z
LAST-MODIFIED:20250110T172819Z
UID:245804-1749715200-1749718800@greatermeredith.org
SUMMARY:Executive Committee Meeting
DESCRIPTION:Our Executive Committee meets on the 2nd Thursday of every other month at Hermit Woods Winery upstairs. This is an invitation-only meeting.
URL:https://greatermeredith.org/event/executive-committee-meeting-5/
CATEGORIES:Board Meeting
END:VEVENT
BEGIN:VEVENT
DTSTART;TZID=America/New_York:20250618T170000
DTEND;TZID=America/New_York:20250618T180000
DTSTAMP:20260424T014139
CREATED:20241212T195015Z
LAST-MODIFIED:20250110T171137Z
UID:245839-1750266000-1750269600@greatermeredith.org
SUMMARY:Promotions Committee Meeting
DESCRIPTION:The Promotions Committee serves as the marketing arm of the GMP\, the ‘Shop Local’ cheerleader of our local businesses and event coordinators for the community. The Promotions Committee meets in Meredith on the third Wednesday of each month. If you would like to attend\, please reach out to our Executive Director Heather LaDue\, gmp@ greatermeredith .org to be advised of the location and notified of any last-minute changes to this meeting.
URL:https://greatermeredith.org/event/promotions-committee-meeting-13/
CATEGORIES:Committee Meeting
END:VEVENT
BEGIN:VEVENT
DTSTART;TZID=America/New_York:20250627T180000
DTEND;TZID=America/New_York:20250627T213000
DTSTAMP:20260424T014139
CREATED:20250318T193627Z
LAST-MODIFIED:20250617T154934Z
UID:246246-1751047200-1751059800@greatermeredith.org
SUMMARY:GMP Street Dance
DESCRIPTION:Join us on the last Friday in June as the town gathers to start summer swingin’! No Limitz will be rocking on stage\, Interlakes Summer Theatre will do an intermission performance from an upcoming show\, there will be tasty treats for sale from Full Circle Food Truck\, and 55 Main Kitchen & Bar is sponsoring a face painting station FREE for the kids! \n\n\n\n \n\n\n\nThe Greater Meredith Program would like to thank our Event Sponsors for the Street Dance which grow and improve the experience for all. \n\n\n\nThank you to Overhead Door Options for being our premium $1\,000 sponsor covering the live rock band!
URL:https://greatermeredith.org/event/gmp-street-dance/
CATEGORIES:Public Event
ATTACH;FMTTYPE=image/jpeg:https://greatermeredith.org/wp-content/uploads/2023/06/GMP-Street-Dance-June-23-2023-_110-copy.jpg
END:VEVENT
END:VCALENDAR