BEGIN:VCALENDAR
VERSION:2.0
PRODID:-//Greater Meredith Program - ECPv6.15.20//NONSGML v1.0//EN
CALSCALE:GREGORIAN
METHOD:PUBLISH
X-ORIGINAL-URL:https://greatermeredith.org
X-WR-CALDESC:Events for Greater Meredith Program
REFRESH-INTERVAL;VALUE=DURATION:PT1H
X-Robots-Tag:noindex
X-PUBLISHED-TTL:PT1H
BEGIN:VTIMEZONE
TZID:America/New_York
BEGIN:DAYLIGHT
TZOFFSETFROM:-0500
TZOFFSETTO:-0400
TZNAME:EDT
DTSTART:20240310T070000
END:DAYLIGHT
BEGIN:STANDARD
TZOFFSETFROM:-0400
TZOFFSETTO:-0500
TZNAME:EST
DTSTART:20241103T060000
END:STANDARD
BEGIN:DAYLIGHT
TZOFFSETFROM:-0500
TZOFFSETTO:-0400
TZNAME:EDT
DTSTART:20250309T070000
END:DAYLIGHT
BEGIN:STANDARD
TZOFFSETFROM:-0400
TZOFFSETTO:-0500
TZNAME:EST
DTSTART:20251102T060000
END:STANDARD
BEGIN:DAYLIGHT
TZOFFSETFROM:-0500
TZOFFSETTO:-0400
TZNAME:EDT
DTSTART:20260308T070000
END:DAYLIGHT
BEGIN:STANDARD
TZOFFSETFROM:-0400
TZOFFSETTO:-0500
TZNAME:EST
DTSTART:20261101T060000
END:STANDARD
END:VTIMEZONE
BEGIN:VEVENT
DTSTART;TZID=America/New_York:20251001T080000
DTEND;TZID=America/New_York:20251031T170000
DTSTAMP:20260423T205212
CREATED:20250828T203744Z
LAST-MODIFIED:20251001T161528Z
UID:246622-1759305600-1761930000@greatermeredith.org
SUMMARY:Scarecrow Stroll 2025
DESCRIPTION:Dozens of local businesses are competing in the GMP Annual Scarecrow Stroll! Cast your vote for your favorite by Oct 30.  \n\n\n\n \n\n\n\n\nView the Interactive Map Here!\n\n\n\n\n \n\n\n\n\nLearn More Here!
URL:https://greatermeredith.org/event/scarecrow-stroll-2025/
CATEGORIES:Public Event
ATTACH;FMTTYPE=image/webp:https://greatermeredith.org/wp-content/uploads/2024/09/fullcircle-01.webp
END:VEVENT
BEGIN:VEVENT
DTSTART;TZID=America/New_York:20251008T083000
DTEND;TZID=America/New_York:20251008T093000
DTSTAMP:20260423T205212
CREATED:20241211T192133Z
LAST-MODIFIED:20250318T184157Z
UID:245788-1759912200-1759915800@greatermeredith.org
SUMMARY:Community & Economic Development Committee Meeting
DESCRIPTION:Identifying affordable housing opportunities for the town of Meredith\, bringing Main Street improvement suggestions to the town\, stimulating investment in downtown property\, and fostering a greater sense of community among residents. The committee members of the Community & Economic Development Committee meets on the 2nd Wednesday of each month at the GMP offices at 183 Waukewan Street. Non-members who are interested in attending: please first contact our Executive Director at gmp@greatermeredith.org
URL:https://greatermeredith.org/event/community-economic-development-committee-meeting-10/
CATEGORIES:Committee Meeting
END:VEVENT
BEGIN:VEVENT
DTSTART;TZID=America/New_York:20251009T080000
DTEND;TZID=America/New_York:20251009T090000
DTSTAMP:20260423T205212
CREATED:20241211T194220Z
LAST-MODIFIED:20250110T172737Z
UID:245810-1759996800-1760000400@greatermeredith.org
SUMMARY:Executive Committee Meeting
DESCRIPTION:Our Executive Committee meets on the 2nd Thursday of every other month at Hermit Woods Winery upstairs. This is an invitation-only meeting.
URL:https://greatermeredith.org/event/executive-committee-meeting-6/
CATEGORIES:Board Meeting
END:VEVENT
BEGIN:VEVENT
DTSTART;TZID=America/New_York:20251014T163000
DTEND;TZID=America/New_York:20251014T173000
DTSTAMP:20260423T205212
CREATED:20241211T184659Z
LAST-MODIFIED:20241211T184707Z
UID:245764-1760459400-1760463000@greatermeredith.org
SUMMARY:Design Committee Meeting
DESCRIPTION:Location: Rotate to Member’s Homes \n\n\n\nThe Design Committee has the goals of beautifying the Town of Meredith as well as improving the Town’s sense of place. The Design and Beautification Committee meets the second Tuesday of each month at 4:30pm at rotating members’ homes\, except in winter months when they meet at Hermit Woods Winery. If you would like to attend\, please reach out to our Executive Director Heather LaDue for location details.
URL:https://greatermeredith.org/event/design-committee-meeting-10/
CATEGORIES:Committee Meeting
END:VEVENT
BEGIN:VEVENT
DTSTART;TZID=America/New_York:20251015T170000
DTEND;TZID=America/New_York:20251015T180000
DTSTAMP:20260423T205212
CREATED:20241212T195418Z
LAST-MODIFIED:20250110T170841Z
UID:245847-1760547600-1760551200@greatermeredith.org
SUMMARY:Promotions Committee Meeting
DESCRIPTION:The Promotions Committee serves as the marketing arm of the GMP\, the ‘Shop Local’ cheerleader of our local businesses and event coordinators for the community. The Promotions Committee meets in Meredith on the third Wednesday of each month. If you would like to attend\, please reach out to our Executive Director Heather LaDue\, gmp@ greatermeredith .org to be advised of the location and notified of any last-minute changes to this meeting.
URL:https://greatermeredith.org/event/promotions-committee-meeting-17/
CATEGORIES:Committee Meeting
END:VEVENT
END:VCALENDAR