BEGIN:VCALENDAR
VERSION:2.0
PRODID:-//Greater Meredith Program - ECPv6.15.20//NONSGML v1.0//EN
CALSCALE:GREGORIAN
METHOD:PUBLISH
X-WR-CALNAME:Greater Meredith Program
X-ORIGINAL-URL:https://greatermeredith.org
X-WR-CALDESC:Events for Greater Meredith Program
REFRESH-INTERVAL;VALUE=DURATION:PT1H
X-Robots-Tag:noindex
X-PUBLISHED-TTL:PT1H
BEGIN:VTIMEZONE
TZID:America/New_York
BEGIN:DAYLIGHT
TZOFFSETFROM:-0500
TZOFFSETTO:-0400
TZNAME:EDT
DTSTART:20250309T070000
END:DAYLIGHT
BEGIN:STANDARD
TZOFFSETFROM:-0400
TZOFFSETTO:-0500
TZNAME:EST
DTSTART:20251102T060000
END:STANDARD
BEGIN:DAYLIGHT
TZOFFSETFROM:-0500
TZOFFSETTO:-0400
TZNAME:EDT
DTSTART:20260308T070000
END:DAYLIGHT
BEGIN:STANDARD
TZOFFSETFROM:-0400
TZOFFSETTO:-0500
TZNAME:EST
DTSTART:20261101T060000
END:STANDARD
BEGIN:DAYLIGHT
TZOFFSETFROM:-0500
TZOFFSETTO:-0400
TZNAME:EDT
DTSTART:20270314T070000
END:DAYLIGHT
BEGIN:STANDARD
TZOFFSETFROM:-0400
TZOFFSETTO:-0500
TZNAME:EST
DTSTART:20271107T060000
END:STANDARD
END:VTIMEZONE
BEGIN:VEVENT
DTSTART;TZID=America/New_York:20260113T163000
DTEND;TZID=America/New_York:20260113T173000
DTSTAMP:20260423T162607
CREATED:20260128T213059Z
LAST-MODIFIED:20260129T170147Z
UID:246867-1768321800-1768325400@greatermeredith.org
SUMMARY:Design Committee Meeting
DESCRIPTION:The Design Committee has the goals of beautifying the Town of Meredith as well as improving the Town’s sense of place. The Design and Beautification Committee meets the second Tuesday of each month at 4:30pm at rotating members’ homes\, except in winter months when they meet at Hermit Woods Winery. If you would like to attend\, please reach out to our Executive Director Heather LaDue for location details.
URL:https://greatermeredith.org/event/design-committee-meeting-13/
CATEGORIES:Committee Meeting
ATTACH;FMTTYPE=image/webp:https://greatermeredith.org/wp-content/uploads/2026/01/design.webp
END:VEVENT
BEGIN:VEVENT
DTSTART;TZID=America/New_York:20260114T083000
DTEND;TZID=America/New_York:20260114T093000
DTSTAMP:20260423T162607
CREATED:20260128T213015Z
LAST-MODIFIED:20260129T170207Z
UID:246865-1768379400-1768383000@greatermeredith.org
SUMMARY:Community & Economic Development Committee Meeting
DESCRIPTION:Identifying affordable housing opportunities for the town of Meredith\, bringing Main Street improvement suggestions to the town\, stimulating investment in downtown property\, and fostering a greater sense of community among residents. The committee members of the Community & Economic Development Committee meets on the 2nd Wednesday of each month at the GMP offices at 183 Waukewan Street. Non-members who are interested in attending: please first contact our Executive Director at gmp@greatermeredith.org.
URL:https://greatermeredith.org/event/community-economic-development-committee-meeting-13/
CATEGORIES:Committee Meeting
ATTACH;FMTTYPE=image/webp:https://greatermeredith.org/wp-content/uploads/2026/01/econ.webp
END:VEVENT
BEGIN:VEVENT
DTSTART;TZID=America/New_York:20260115T180000
DTEND;TZID=America/New_York:20260115T210000
DTSTAMP:20260423T162607
CREATED:20250523T165600Z
LAST-MODIFIED:20260128T213606Z
UID:246359-1768500000-1768510800@greatermeredith.org
SUMMARY:Annual Meeting
DESCRIPTION:Meredith in Motion: Celebrating Progress\, Shaping the Future \nCelebrate another successful year of collaboration\, creativity\, and community with the Greater Meredith Program! This free event features Judie Milner\, Meredith’s new Town Manager\, who will share updates on community-wide initiatives and how they align with GMP’s mission\, Main Street efforts\, and strategic vision. Come connect with neighbors and volunteers who make Meredith such a special place to live\, work\, and visit. \n \n			\n				Register Here: Deadline Jan. 4
URL:https://greatermeredith.org/event/annual-meeting/
CATEGORIES:Public Event
END:VEVENT
BEGIN:VEVENT
DTSTART;TZID=America/New_York:20260121T170000
DTEND;TZID=America/New_York:20260121T180000
DTSTAMP:20260423T162607
CREATED:20260128T205859Z
LAST-MODIFIED:20260129T170232Z
UID:246863-1769014800-1769018400@greatermeredith.org
SUMMARY:Promotions Committee Meeting
DESCRIPTION:The Promotions Committee serves as the marketing arm of the GMP\, the ‘Shop Local’ cheerleader of our local businesses and event coordinators for the community. The Promotions Committee meets in Meredith on the third Wednesday of each month. If you would like to attend\, please reach out to our Executive Director Heather LaDue\, gmp@ greatermeredith .org to be advised of the location and notified of any last-minute changes to this meeting.
URL:https://greatermeredith.org/event/promotions-committee-meeting-20/
CATEGORIES:Committee Meeting
ATTACH;FMTTYPE=image/webp:https://greatermeredith.org/wp-content/uploads/2026/01/promotions.webp
END:VEVENT
END:VCALENDAR